BEGIN:VCALENDAR
VERSION:2.0
PRODID:-//ChamberMaster//Event Calendar 2.0//EN
METHOD:PUBLISH
X-PUBLISHED-TTL:P3D
REFRESH-INTERVAL:P3D
CALSCALE:GREGORIAN
BEGIN:VEVENT
DTSTART:20220504T230000Z
DTEND:20220505T020000Z
X-MICROSOFT-CDO-ALLDAYEVENT:FALSE
SUMMARY:Blues Artist & GRAMMY-Nominee Jontavious Willis to Headline 4th Annual Under the Sea Event 2022
DESCRIPTION:FOR IMMEDIATE RELEASE\n\n			 \n\n			GRAMMY-NOMINEE JONTAVIOUS WILLIS TO HEADLINE "UNDER THE SEA" FUNDRAISER FOR UNDERWATER MUSEUM OF ART\n\n			May 4th Event Is Official Kickoff For Art Month Walton County \n\n			 \n\n			Santa Rosa Beach\, FL (April 5\, 2022) - The Cultural Arts Alliance of Walton County (CAA) is excited to announce that Blues artist and GRAMMY-nominee Jontavious Willis will headline the 4th annual "Under The Sea" fundraiser for the Underwater Museum of Art (UMA)\, a collaborative project with the South Walton Artificial Reef Association (SWARA). "Under the Sea" will take place on Wednesday\, May 4th\, 6:00 - 9:00 PM\, in Grand Boulevard's Town Center and is the official kick-off party for Art Month Walton County\, a month-long celebration of the Arts that includes many diverse cultural events throughout the month of May.\n\n			\n\n			Every generation or so\, a young bluesman bursts onto the scene and sends a jolt through the blues community. Jontavious Willis may just have that effect on people. The 24-year-old multi-instrumentalist was nominated for a GRAMMY in 2020 thanks to his latest album\, Spectacular Class. Through original lyrics written by Willis himself\, the gifted musician delivered a timeless album that features dynamic vocals and all types of blues: Delta\, Piedmont\, Texas\, and Gospel. His stand-out fingerpicking\, flat-picking\, and slide prowess are also on display. \n\n			\n\n			In addition to enjoying amazing music\, "Under The Sea" party-goers will have an exclusive chance to meet the 2022 UMA artists and see several of the original works they have created before the sculptures are deployed to the UMA site. Special food menu items from some of South Walton's most popular restaurants\, including Black Bear Bread Company (Chef Phil McDonald)\, Blue Mabel (Chef David Cunningham)\, Down Island Gulf Seafood Restaurant (Chef Brannon Janca)\, Farm & Fire (Chef Joyce Russell)\, Grayton Beach Catering (Chef Blake Bohannon)\, Roux 30a/Nanbu (Chef Nikhil Abuvala)\, and Stinky's Fish Camp (Chef Tim Chyrek) will be available\, along with a cash bar featuring signature cocktails\, wine\, and beer. Tickets are $50 per person in advance and $60 per person day of the event\, if available. They are on sale now at CulturalArtsAlliance.com/upcoming-events. \n\n			\n\n			The "Under The Sea" event is presented by Coastal Conservation Association with additional support from Visit South Walton\, Grand Boulevard Town Center\, First National Bank\, Chiringo and Hurd Real Estate & Co. A few event and sculpture sponsorships are still available\, and those interested can contact Gabby Callaway at Gabby@culturalartsalliance.com for more details.\n\n			\n\n			Funds raised from "Under The Sea '' ticket sales and a silent auction will benefit the fourth deployment of sculptures into the Underwater Museum of Art\, the nation's first permanent dedicated sculpture museum\, recognized as one of TIME magazine's 2018 100 World's Greatest Places as well as one of National Geographic's Best Trips 2019. The 2022 installation will include the following pieces of sculpture: Currents and Tafoni by Joe Adams (Ventura\, CA)\, Pirate Shipwreck by Sean Coffey (Pittsburgh\, PA)\, Bloom Baby Bloom by Brit Deslonde (Santa Rosa Beach\, FL)\, The Seed and The Sea by Davide Galbiati (Valreas\, France)\, Fibonacci Conchousness by Anthony Heinz May (Eugene\, OR)\, New Homes by Janetta Napp (Honolulu\, HI)\, Arc of Nexus by Tina Piracci (Richmond\, CA)\, We All Live Here by Marisol Rend n (San Diego\, CA)\, and Common Chord by Vince Tatum (Santa Rosa Beach\, FL). \n\n			\n\n			Select sculptures will be on display at the fundraiser and throughout the weekend during the 34th annual ArtsQuest Fine Arts Festival in Grand Boulevard's Town Center and will then be transferred to Orange Beach\, AL to be prepared for their deployment into the Gulf this summer. The UMA site is located less than one mile off the coast of Grayton Beach State Park in a one-acre permit patch of seabed. \n\n			\n\n			The UMA is a project of the CAA's 'Art in Public Spaces' program created in partnership with South Walton Artificial Reef Association (SWARA) with the purpose to create marine habitat and expand fishery populations while providing enhanced creative\, cultural\, economic and educational opportunities for the benefit\, education and enjoyment of residents\, students and visitors in South Walton. \n\n			\n\n			The 2022 UMA project is produced with support from Visit South Walton\, The Alys Foundation\, the Florida Department of State\, Division of Arts & Culture\, Beachy Blooms 30A\, Hilton Sandestin Beach Golf Resort & Spa\, St. Joe Community Foundation\, Friends of the CAA\, and the Ellis Family. For more information and tickets\, visit UMAFL.org or CulturalArtsAlliance.com. \n\n			                                                                      ###\n\n			\n\n			\n\n			About Cultural Arts Alliance:\n\n			As the creative core of Walton County\, the Cultural Arts Alliance (CAA) of Walton County offers support\, connection and access opportunities for all forms of art\, every variety of maker\, all levels of learners\, and especially\, art lovers. Through sponsorship\, performance\, and educational programs\, the organization directly connects the people of Walton County with the broader view\, the critical exploration\, and the answers only the Arts have the power to provide. For more information\, visit CulturalArtsAlliance.com. \n\n			 \n\n			About South Walton Artificial Reef Association:\n\n			The South Walton Artificial Reef Association is a grassroots\, 501(c)3 organization dedicated to deploying and monitoring publicly permitted living reefs in Walton County's near shore coastal waters for the benefit\, education\, and enrichment of residents\, visitors\, and marine habitat for present and future generations. Learn more at SwaraReefs.org.\n\n			\n\n			MEDIA CONTACT\n\n			Melissa Wheeler\n\n			CAA Marketing Director\n\n			melissa@culturalartsalliance.com\n\n			850.622.5970
X-ALT-DESC;FMTTYPE=text/html:<table border="0" cellpadding="0" cellspacing="0" style="width:100.0%\;" width="100%">\n	<tbody>\n		<tr>\n			<td style="padding:0in 0in 0in 0in\;vertical-align:top\;">&nbsp\;<br />\n			<em><strong><span style="color:#333333\;"><span style="font-family:arial\,sans-serif\;"><span style="font-size:9.0pt\;">FOR IMMEDIATE RELEASE</span></span></span></strong></em><br />\n			&nbsp\;<br />\n			<strong><span style="color:#333333\;"><span style="font-family:arial\,sans-serif\;"><span style="font-size:15.0pt\;">GRAMMY-NOMINEE JONTAVIOUS WILLIS TO HEADLINE &quot\;UNDER THE SEA&quot\; FUNDRAISER FOR UNDERWATER MUSEUM OF ART</span></span></span></strong><br />\n			<strong><em><span style="color:#333333\;"><span style="font-family:arial\,sans-serif\;"><span style="font-size:11.5pt\;">May 4th Event Is Official Kickoff For Art Month Walton County</span></span></span></em></strong>&nbsp\;<br />\n			&nbsp\;<br />\n			<span style="color:#333333\;"><span style="font-family:arial\,sans-serif\;"><span style="font-size:12.0pt\;">Santa Rosa Beach\, FL (April 5\, 2022) -&nbsp\;The Cultural Arts Alliance of Walton County (CAA) is excited to announce that Blues artist and GRAMMY-nominee Jontavious Willis will headline the 4th annual &ldquo\;Under The Sea&rdquo\; fundraiser for the Underwater Museum of Art (UMA)\, a collaborative project with the South Walton Artificial Reef Association (SWARA). &ldquo\;Under the Sea&rdquo\; will take place on Wednesday\, May 4th\, 6:00 - 9:00 PM\, in Grand Boulevard&rsquo\;s Town Center and is the official kick-off party for Art Month Walton County\, a month-long celebration of the Arts that includes many diverse cultural events throughout the month of May.</span></span></span><br />\n			<br />\n			<span style="color:#333333\;"><span style="font-family:arial\,sans-serif\;"><span style="font-size:12.0pt\;">Every generation or so\, a young bluesman bursts onto the scene and sends a jolt through the blues community. Jontavious Willis may just have that effect on people. The 24-year-old multi-instrumentalist was nominated for a GRAMMY in 2020 thanks to his latest album\, </span><em><span style="font-family:arial\,sans-serif\;">Spectacular Class</span></em>. Through original lyrics written by Willis himself\, the gifted musician delivered a timeless album that features dynamic vocals and all types of blues: Delta\, Piedmont\, Texas\, and Gospel. His stand-out fingerpicking\, flat-picking\, and slide prowess are also on display.&nbsp\;</span><br />\n			<br />\n			In addition to enjoying amazing music\, &ldquo\;Under The Sea&rdquo\; party-goers will have an exclusive chance to meet the 2022 UMA artists and see several of the original works they have created before the sculptures are deployed to the UMA site. Special food menu items from some of South Walton&rsquo\;s most popular restaurants\, including Black Bear Bread Company (Chef Phil McDonald)\, Blue Mabel (Chef David Cunningham)\, Down Island Gulf Seafood Restaurant (Chef Brannon Janca)\, Farm &amp\; Fire (Chef Joyce Russell)\, Grayton Beach Catering (Chef Blake Bohannon)\, Roux 30a/Nanbu (Chef Nikhil Abuvala)\, and Stinky&rsquo\;s Fish Camp (Chef Tim Chyrek) will be available\, along with a cash bar featuring signature cocktails\, wine\, and beer. Tickets are $50 per person in advance and $60 per person day of the event\, if available. They are on sale now at CulturalArtsAlliance.com/upcoming-events.&nbsp\;</span><br />\n			<br />\n			The &ldquo\;Under The Sea&rdquo\; event is presented by Coastal Conservation Association with additional support from Visit South Walton\, Grand Boulevard Town Center\, First National Bank\, Chiringo and Hurd Real Estate &amp\; Co. A few event and sculpture sponsorships are still available\, and those interested can contact Gabby Callaway at <a href="mailto:Gabby@culturalartsalliance.com">Gabby@culturalartsalliance.com</a> for more details.<br />\n			<br />\n			Funds raised from &ldquo\;Under The Sea &#39\;&#39\; ticket sales and a silent auction will benefit the fourth deployment of sculptures into the Underwater Museum of Art\, the nation&rsquo\;s first permanent dedicated sculpture museum\, recognized as one of TIME magazine&rsquo\;s 2018 100 World&rsquo\;s Greatest Places as well as one of <em><span style="font-family:arial\,sans-serif\;">National Geographic&rsquo\;s</span></em> Best Trips 2019. The 2022 installation will include the following pieces of sculpture: <em><span style="font-family:arial\,sans-serif\;">Currents and Tafoni</span></em> by Joe Adams (Ventura\, CA)\, <em><span style="font-family:arial\,sans-serif\;">Pirate Shipwreck</span></em> by Sean Coffey (Pittsburgh\, PA)\, <em><span style="font-family:arial\,sans-serif\;">Bloom Baby Bloom</span></em> by Brit Deslonde (Santa Rosa Beach\, FL)\, <em><span style="font-family:arial\,sans-serif\;">The Seed and The Sea</span></em> by Davide Galbiati (Valreas\, France)\, <em><span style="font-family:arial\,sans-serif\;">Fibonacci Conchousness</span></em> by Anthony Heinz May (Eugene\, OR)\, <em><span style="font-family:arial\,sans-serif\;">New Homes</span></em> by Janetta Napp (Honolulu\, HI)\, <em><span style="font-family:arial\,sans-serif\;">Arc of Nexus</span></em> by Tina Piracci (Richmond\, CA)\, <em><span style="font-family:arial\,sans-serif\;">We All Live Here</span></em> by Marisol Rend&oacute\;n (San Diego\, CA)\, and <em><span style="font-family:arial\,sans-serif\;">Common Chord</span></em> by Vince Tatum (Santa Rosa Beach\, FL).&nbsp\;<br />\n			<br />\n			Select sculptures will be on display at the fundraiser and throughout the weekend during the 34th annual ArtsQuest Fine Arts Festival in Grand Boulevard&rsquo\;s Town Center and will then be transferred to Orange Beach\, AL to be prepared for their deployment into the Gulf this summer. The UMA site is located less than one mile off the coast of Grayton Beach State Park in a one-acre permit patch of seabed.&nbsp\;<br />\n			<br />\n			The UMA is a project of the CAA&rsquo\;s &#39\;Art in Public Spaces&#39\; program created in partnership with South Walton Artificial Reef Association (SWARA) with the purpose to create marine habitat and expand fishery populations while providing enhanced creative\, cultural\, economic and educational opportunities for the benefit\, education and enjoyment of residents\, students and visitors in South Walton.&nbsp\;<br />\n			<br />\n			The 2022 UMA project is produced with support from Visit South Walton\, The Alys Foundation\, the Florida Department of State\, Division of Arts &amp\; Culture\, Beachy Blooms 30A\, Hilton Sandestin Beach Golf Resort &amp\; Spa\, St. Joe Community Foundation\, Friends of the CAA\, and the Ellis Family. For more information and tickets\, visit UMAFL.org or CulturalArtsAlliance.com.&nbsp\;<br />\n			<span style="color:#333333\;"><span style="font-family:arial\,sans-serif\;"><span style="font-size:12.0pt\;">&nbsp\; &nbsp\; &nbsp\; &nbsp\; &nbsp\; &nbsp\; &nbsp\; &nbsp\; &nbsp\; &nbsp\; &nbsp\; &nbsp\; &nbsp\; &nbsp\; &nbsp\; &nbsp\; &nbsp\; &nbsp\; &nbsp\; &nbsp\; &nbsp\; &nbsp\; &nbsp\; &nbsp\; &nbsp\; &nbsp\; &nbsp\; &nbsp\; &nbsp\; &nbsp\; &nbsp\; &nbsp\; &nbsp\; &nbsp\; &nbsp\; ###</span></span></span><br />\n			<br />\n			<br />\n			<span style="color:#333333\;"><span style="font-family:arial\,sans-serif\;"><span style="font-size:12.0pt\;"><strong><u><span style="font-family:arial\,sans-serif\;">About Cultural Arts Alliance:</span></u></strong><br />\n			As the creative core of Walton County\, the Cultural Arts Alliance (CAA) of Walton County offers support\, connection and access opportunities for all forms of art\, every variety of maker\, all levels of learners\, and especially\, art lovers. Through sponsorship\, performance\, and educational programs\, the organization directly connects the people of Walton County with the broader view\, the critical exploration\, and the answers only the Arts have the power to provide. For more information\, visit CulturalArtsAlliance.com.&nbsp\;</span></span></span><br />\n			&nbsp\;<br />\n			<strong><u><span style="color:#333333\;"><span style="font-family:arial\,sans-serif\;"><span style="font-size:12.0pt\;">About South Walton Artificial Reef Association:</span></span></span></u></strong><br />\n			<span style="color:#333333\;"><span style="font-family:arial\,sans-serif\;"><span style="font-size:12.0pt\;">The South Walton Artificial Reef Association is a grassroots\, 501(c)3 organization dedicated to deploying and monitoring publicly permitted living reefs in Walton County&#39\;s near shore coastal waters for the benefit\, education\, and enrichment of residents\, visitors\, and marine habitat for present and future generations. Learn more at SwaraReefs.org.</span></span></span><br />\n			<br />\n			<span style="color:#333333\;"><span style="font-family:arial\,sans-serif\;"><span style="font-size:12.0pt\;"><strong><u><span style="font-family:arial\,sans-serif\;">MEDIA CONTACT</span></u></strong><br />\n			Melissa Wheeler</span><br />\n			CAA Marketing Director</span><br />\n			<a href="mailto:melissa@culturalartsalliance.com">melissa@culturalartsalliance.com</a></span><br />\n			850.622.5970</td>\n		</tr>\n	</tbody>\n</table>\n
LOCATION:
UID:e.885.33837
SEQUENCE:3
DTSTAMP:20260423T143444Z
URL:https://business.waltonareachamber.com/events/details/blues-artist-grammy-nominee-jontavious-willis-to-headline-4th-annual-under-the-sea-event-2022-33837
END:VEVENT

END:VCALENDAR
