BEGIN:VCALENDAR
VERSION:2.0
PRODID:-//ChamberMaster//Event Calendar 2.0//EN
METHOD:PUBLISH
X-PUBLISHED-TTL:P3D
REFRESH-INTERVAL:P3D
CALSCALE:GREGORIAN
BEGIN:VEVENT
DTSTART:20240731T001500Z
DTEND:20240731T021500Z
X-MICROSOFT-CDO-ALLDAYEVENT:FALSE
SUMMARY:Boomin' Tuesdays
DESCRIPTION:Turn your eyes on the sky and watch as we light up the night with a breathtaking fireworks show over the Lagoon at 9:15pm.\n\n\n\nPLUS now enjoy a DJ Dance Party with DJ Mike Whitty in the Events Plaza at 7:15PM!
X-ALT-DESC;FMTTYPE=text/html:<span style="color:#40454A"><span style="font-family:arial\,sans-serif">Turn your eyes on the sky and watch as we light up the night with a breathtaking fireworks show over the Lagoon at 9:15pm.</span></span><br />\n<br />\n<span style="color:#40454A"><span style="font-family:arial\,sans-serif">PLUS now enjoy a DJ Dance Party with DJ Mike Whitty in the Events Plaza at 7:15PM!</span></span>
LOCATION:The VIllage of Baytowne Wharf 9100 Baytowne Boulevard Miramar Beach\, FL 32550
UID:e.885.41320
SEQUENCE:3
DTSTAMP:20260425T170508Z
URL:https://business.waltonareachamber.com/events/details/boomin-tuesdays-07-30-2024-41320
END:VEVENT

END:VCALENDAR
