BEGIN:VCALENDAR
VERSION:2.0
PRODID:-//ChamberMaster//Event Calendar 2.0//EN
METHOD:PUBLISH
X-PUBLISHED-TTL:P3D
REFRESH-INTERVAL:P3D
CALSCALE:GREGORIAN
BEGIN:VEVENT
DTSTART:20210506T220000Z
DTEND:20210507T010000Z
X-MICROSOFT-CDO-ALLDAYEVENT:FALSE
SUMMARY:Boukou Groove Duo at North Beach Social
DESCRIPTION:Listen to the Boukou Groove Duo live every Thursday in May!
X-ALT-DESC;FMTTYPE=text/html:<span style="font-size:14px\;"><span style="font-family:arial\;">Listen to the Boukou Groove Duo live every Thursday in May!</span></span>
LOCATION:North Beach Social 24200 US-331\, Santa Rosa Beach\, FL 32459
UID:e.885.30290
SEQUENCE:3
DTSTAMP:20260422T142613Z
URL:https://business.waltonareachamber.com/events/details/boukou-groove-duo-at-north-beach-social-30290
END:VEVENT

END:VCALENDAR
