BEGIN:VCALENDAR
VERSION:2.0
PRODID:-//ChamberMaster//Event Calendar 2.0//EN
METHOD:PUBLISH
X-PUBLISHED-TTL:P3D
REFRESH-INTERVAL:P3D
CALSCALE:GREGORIAN
BEGIN:VEVENT
DTSTART:20210521T230000Z
DTEND:20210522T030000Z
X-MICROSOFT-CDO-ALLDAYEVENT:FALSE
SUMMARY:Bow Ties & Bling Gala
DESCRIPTION:The Emerald Coast Children's Advocacy Center has made the difficult decision to postpone their annual Gala. So please mark your calendar for our new date: Friday\, May 21\, 2021.\n\nThis year's theme is Bow Ties & Bling so come dressed to impress!\n\nTo purchase tickets: https://emeraldcoastcac.ejoinme.org/bowtiesandblinggala2021\n\nThe Gala will be held at Hilton Sandestin Beach Golf Resort & Spa. Emceed by David Seering\, guests will enjoy dinner\, dancing\, and live entertainment by Mr. Big Band\, as well as amazing live and silent auction items.
X-ALT-DESC;FMTTYPE=text/html:<div class="kvgmc6g5 cxmmr5t8 oygrvhab hcukyx3x c1et5uql" style="overflow-wrap: break-word\; margin: 0px\; font-family: &quot\;Segoe UI Historic&quot\;\, &quot\;Segoe UI&quot\;\, Helvetica\, Arial\, sans-serif\; color: rgb(5\, 5\, 5)\; font-size: 15px\;"><span style="font-size:14px\;"><span style="font-family:arial\;">The Emerald Coast Children&#39\;s Advocacy Center has&nbsp\;made the difficult decision to postpone their&nbsp\;annual Gala. So please mark your calendar for our new date: Friday\, May 21\, 2021.</span></span></div>\n\n<div class="o9v6fnle cxmmr5t8 oygrvhab hcukyx3x c1et5uql" style="overflow-wrap: break-word\; margin: 0.5em 0px 0px\; font-family: &quot\;Segoe UI Historic&quot\;\, &quot\;Segoe UI&quot\;\, Helvetica\, Arial\, sans-serif\; color: rgb(5\, 5\, 5)\; font-size: 15px\;"><span style="font-size:14px\;"><span style="font-family:arial\;">This year&#39\;s theme is Bow Ties &amp\; Bling so come dressed to impress!</span></span></div>\n\n<div class="o9v6fnle cxmmr5t8 oygrvhab hcukyx3x c1et5uql" style="overflow-wrap: break-word\; margin: 0.5em 0px 0px\; font-family: &quot\;Segoe UI Historic&quot\;\, &quot\;Segoe UI&quot\;\, Helvetica\, Arial\, sans-serif\; color: rgb(5\, 5\, 5)\; font-size: 15px\;"><span style="font-size:14px\;"><span style="font-family:arial\;">To purchase tickets:&nbsp\;<a class="oajrlxb2 g5ia77u1 qu0x051f esr5mh6w e9989ue4 r7d6kgcz rq0escxv nhd2j8a9 nc684nl6 p7hjln8o kvgmc6g5 cxmmr5t8 oygrvhab hcukyx3x jb3vyjys rz4wbd8a qt6c0cv9 a8nywdso i1ao9s8h esuyzwwr f1sip0of lzcic4wl py34i1dx gpro0wi8" href="https://emeraldcoastcac.ejoinme.org/bowtiesandblinggala2021?fbclid=IwAR1U1HjGyk7nFtYIRMoaHxW8NsE5hJAnyPRO6X5xJy5Qr5-wvw31_eVwpO8" rel="nofollow noopener" role="link" style="color: var(--blue-link)\; cursor: pointer\; text-decoration-line: none\; outline: none\; list-style: none\; border-width: 0px\; border-style: initial\; border-color: initial\; padding: 0px\; margin: 0px\; touch-action: manipulation\; background-color: transparent\; text-align: inherit\; display: inline\; -webkit-tap-highlight-color: transparent\; box-sizing: border-box\; font-family: inherit\;" tabindex="0" target="_blank">https://emeraldcoastcac.ejoinme.org/bowtiesandblinggala2021</a></span></span></div>\n\n<div class="o9v6fnle cxmmr5t8 oygrvhab hcukyx3x c1et5uql" style="overflow-wrap: break-word\; margin: 0.5em 0px 0px\; font-family: &quot\;Segoe UI Historic&quot\;\, &quot\;Segoe UI&quot\;\, Helvetica\, Arial\, sans-serif\; color: rgb(5\, 5\, 5)\; font-size: 15px\;"><span style="font-size:14px\;"><span style="font-family:arial\;">The Gala will be held at Hilton Sandestin Beach Golf Resort &amp\; Spa. Emceed by David Seering\, guests will enjoy dinner\, dancing\, and live entertainment by Mr. Big Band\, as well as amazing live and silent auction items.</span></span></div>\n
LOCATION:
UID:e.885.29422
SEQUENCE:3
DTSTAMP:20260422T142432Z
URL:https://business.waltonareachamber.com/events/details/bow-ties-bling-gala-29422
END:VEVENT

END:VCALENDAR
