BEGIN:VCALENDAR
VERSION:2.0
PRODID:-//ChamberMaster//Event Calendar 2.0//EN
METHOD:PUBLISH
X-PUBLISHED-TTL:P3D
REFRESH-INTERVAL:P3D
CALSCALE:GREGORIAN
BEGIN:VEVENT
DTSTART:20211107T170000Z
DTEND:20211107T200000Z
X-MICROSOFT-CDO-ALLDAYEVENT:FALSE
SUMMARY:Brunchfest Benefiting Boys and Girls Club of the Emerald Coast
DESCRIPTION:Join us for the first-ever BrunchFest benefiting the Boys & Girls Clubs of the Emerald Coast presented by Cox Media and StarPoint Screening is on Sunday\, November 7th\, at Seville Quarter in Downtown Pensacola! \n\n \n\nCompeting teams provide samples to attendees and compete for the Best Brunch in Town. \n\n \n\nTickets:\n\n$25 for adults\n\n$15 for kids (5-16 years old)\n\n \n\nSponsorships for this event are available. To learn how your business can be involved\, please contact hello@francesroy.com.
X-ALT-DESC;FMTTYPE=text/html:<span style="font-family:arial\;"><span style="font-size:14px\;"><span style="color:#050505\;">Join us for the first-ever&nbsp\;</span><span style="color:#353535\;"><a href="https://r20.rs6.net/tn.jsp?f=001Nv9y60zW0kBxv2YCHaPl8AeDf9-2MLlgEyg_i5jBQ7jW13DTnhUgTO7Re0fbnOiSdSSsz8N14uGdRHJlwQvApAyD5Mg4GCq_BZ-43WQ_q4WBagU8yBTt8dZhGVBcgpZsIzEz23A2ldpE2BFw3bXUYPSlZC4HGjPTPnjpbLlOrxzQa915xsf07FB-vOz9Rt83&amp\;c=ozXYh45oTIPcg41OJudPLznCPbip2T3-V6NeYHnmi-8YoQHjFQuIDA==&amp\;ch=hM2_bvsIRR4kv4fkceMNamsA26jvDXXrtFX4d5x_mKTItnhof49FqQ==" style="color:blue\;" target="_blank"><span style="color:#0081c6\;">BrunchFest</span></a></span><span style="color:#050505\;">&nbsp\;benefiting the Boys &amp\; Girls Clubs of the Emerald Coast presented by Cox Media and StarPoint Screening is on Sunday\, November 7th\, at Seville Quarter in Downtown Pensacola!&nbsp\;</span><br />\n&nbsp\;<br />\n<span style="color:#050505\;">Competing teams provide samples to attendees and compete for the Best Brunch in Town.&nbsp\;</span><br />\n&nbsp\;<br />\n<span style="color:#353535\;"><a href="https://r20.rs6.net/tn.jsp?f=001Nv9y60zW0kBxv2YCHaPl8AeDf9-2MLlgEyg_i5jBQ7jW13DTnhUgTO7Re0fbnOiSdSSsz8N14uGdRHJlwQvApAyD5Mg4GCq_BZ-43WQ_q4WBagU8yBTt8dZhGVBcgpZsIzEz23A2ldpE2BFw3bXUYPSlZC4HGjPTPnjpbLlOrxzQa915xsf07FB-vOz9Rt83&amp\;c=ozXYh45oTIPcg41OJudPLznCPbip2T3-V6NeYHnmi-8YoQHjFQuIDA==&amp\;ch=hM2_bvsIRR4kv4fkceMNamsA26jvDXXrtFX4d5x_mKTItnhof49FqQ==" style="color:blue\;" target="_blank"><span style="color:#0081c6\;">Tickets</span></a></span><span style="color:#050505\;">:</span><br />\n<span style="color:#050505\;">$25 for adults</span><br />\n<span style="color:#050505\;">$15 for kids (5-16 years old)</span><br />\n&nbsp\;<br />\n<span style="color:#050505\;">Sponsorships for this event are available. To learn how your business can be involved\, please contact&nbsp\;<a href="mailto:hello@francesroy.com" style="color:blue\;">hello@francesroy.com</a>.</span></span></span>
LOCATION:Pensacola FL
UID:e.885.32593
SEQUENCE:3
DTSTAMP:20260423T044556Z
URL:https://business.waltonareachamber.com/events/details/brunchfest-benefiting-boys-and-girls-club-of-the-emerald-coast-32593
END:VEVENT

END:VCALENDAR
