BEGIN:VCALENDAR
VERSION:2.0
PRODID:-//ChamberMaster//Event Calendar 2.0//EN
METHOD:PUBLISH
X-PUBLISHED-TTL:P3D
REFRESH-INTERVAL:P3D
CALSCALE:GREGORIAN
BEGIN:VEVENT
DTSTART:20240815T220000Z
DTEND:20240816T000000Z
X-MICROSOFT-CDO-ALLDAYEVENT:FALSE
SUMMARY:Bubbly Baytowne
DESCRIPTION:Bubbly Baytowne is BACK! Who's ready to sip and shop through The Village streets?! Join us for an evening of FREE champagne and shopping during Bubbly Baytowne. Check in by the fountain to receive your complimentary Baytowne Wharf glass and a map outlining specific merchants to visit starting at 5pm.\n\n\n\n* This event is free and for 21 and up only. The village will be open to the public during this event.
X-ALT-DESC;FMTTYPE=text/html:<span style="color:#40454A"><span style="font-family:arial\,sans-serif">Bubbly Baytowne is BACK! Who&#39\;s ready to sip and shop through The Village streets?! Join us for an evening of FREE champagne and shopping during Bubbly Baytowne. Check in by the fountain to receive your complimentary Baytowne Wharf glass and a map outlining specific merchants to visit starting at 5pm.</span></span><br />\n<br />\n<span style="color:#40454A"><span style="font-family:arial\,sans-serif">* This event is free and for 21 and up only. The village will be open to the public during this event.</span></span>
LOCATION:The Village of Baytowne Wharf 9100 Baytowne Boulevard Miramar Beach\, FL 32550
UID:e.885.41553
SEQUENCE:3
DTSTAMP:20260425T170053Z
URL:https://business.waltonareachamber.com/events/details/bubbly-baytowne-08-15-2024-41553
END:VEVENT

END:VCALENDAR
