BEGIN:VCALENDAR
VERSION:2.0
PRODID:-//ChamberMaster//Event Calendar 2.0//EN
METHOD:PUBLISH
X-PUBLISHED-TTL:P3D
REFRESH-INTERVAL:P3D
CALSCALE:GREGORIAN
BEGIN:VEVENT
DTSTART:20220331T150000Z
DTEND:20220331T160000Z
X-MICROSOFT-CDO-ALLDAYEVENT:FALSE
SUMMARY:Capital City Bank Groundbreaking
DESCRIPTION:CAPITAL CITY BANK GROUNDBREAKING THURSDAY\, MARCH 31ST AT 10 A.M.\n\nJoin The St. Joe Company for the groundbreaking of the new Capital City Bank at Watersound  Town Center!
X-ALT-DESC;FMTTYPE=text/html:<span style="color:#363636\;">CAPITAL CITY BANK GROUNDBREAKING </span><span style="letter-spacing:-.05pt\;"><span style="color:#363636\;">T</span></span><span style="letter-spacing:-.05pt\;"><span style="color:#363636\;">H</span></span><span style="letter-spacing:-.05pt\;"><span style="color:#363636\;">U</span></span><span style="letter-spacing:-.05pt\;"><span style="color:#363636\;">R</span></span><span style="letter-spacing:-.05pt\;"><span style="color:#363636\;">S</span></span><span style="letter-spacing:-.05pt\;"><span style="color:#363636\;">D</span></span><span style="letter-spacing:-.05pt\;"><span style="color:#363636\;">A</span></span><span style="letter-spacing:-.05pt\;"><span style="color:#363636\;">Y</span></span><span style="color:#363636\;">\,</span> <span style="letter-spacing:-.05pt\;"><span style="color:#363636\;">M</span></span><span style="letter-spacing:-.05pt\;"><span style="color:#363636\;">A</span></span><span style="letter-spacing:-.05pt\;"><span style="color:#363636\;">R</span></span><span style="letter-spacing:-.05pt\;"><span style="color:#363636\;">C</span></span><span style="color:#363636\;">H</span> <span style="letter-spacing:-.05pt\;"><span style="color:#363636\;">3</span></span><span style="color:#363636\;">1</span><span style="letter-spacing:-.05pt\;"><span style="color:#363636\;">S</span></span><span style="color:#363636\;">T</span> <span style="letter-spacing:-.05pt\;"><span style="color:#363636\;">A</span></span><span style="color:#363636\;">T</span> <span style="color:#363636\;">1</span><span style="color:#363636\;">0</span> <span style="letter-spacing:-.05pt\;"><span style="color:#363636\;">A</span></span><span style="color:#363636\;">.</span><span style="letter-spacing:-.05pt\;"><span style="color:#363636\;">M</span></span><span style="color:#363636\;">.</span><br />\n<span style="color:#363636\;">Join The St. Joe Company for the groundbreaking of the new Capital City Bank at Watersound&#8480\; Town Center!</span><br />\n&nbsp\;
LOCATION:Directions: From U.S. Hwy 98 turn north on Watersound Parkway\, groundbreaking will be on the left
UID:e.885.33623
SEQUENCE:3
DTSTAMP:20260423T111608Z
URL:https://business.waltonareachamber.com/events/details/capital-city-bank-groundbreaking-33623
END:VEVENT

END:VCALENDAR
