BEGIN:VCALENDAR
VERSION:2.0
PRODID:-//ChamberMaster//Event Calendar 2.0//EN
METHOD:PUBLISH
X-PUBLISHED-TTL:P3D
REFRESH-INTERVAL:P3D
CALSCALE:GREGORIAN
BEGIN:VEVENT
DTSTART:20190905T180000Z
DTEND:20190905T210000Z
X-MICROSOFT-CDO-ALLDAYEVENT:FALSE
SUMMARY:CareerSource Okaloosa Walton Mini Job Fair
DESCRIPTION:The CareerSource Okaloosa Walton is hosting a Hospitality Mini Job Fair on September 5th from 1-4 pm at the main center located on 409 Racetrack Rd. NE\, Ft. Walton Beach. Below is the list of participating Employers:\n\n \n\nPanda Express\n\n Exchange/AAFES\n\nFudpucker's\n\n Sam's Club\n\nShaker's\n\nSt. Joe\n\nMasterCorp\n\nUS Census\n\nTouchPoint\n\nand more!
X-ALT-DESC;FMTTYPE=text/html:<span style="font-size:14px\;"><span style="font-family:arial\;">The CareerSource Okaloosa Walton is hosting a Hospitality Mini Job Fair on September 5<sup>th</sup> from 1-4 pm at the main center located on 409 Racetrack Rd. NE\, Ft. Walton Beach. Below is the list of participating Employers:<br />\n&nbsp\;<br />\n<span style="background:white\;"><span style="color:#1C1E21\;">Panda Express</span></span><br />\n<span style="background:white\;"><span style="color:#1C1E21\;">&#65039\;</span></span><span style="background:white\;"><span style="color:#1C1E21\;">Exchange/AAFES</span></span><br />\n<span style="background:white\;"><span style="color:#1C1E21\;">Fudpucker&#39\;s</span></span><br />\n<span style="background:white\;"><span style="color:#1C1E21\;">&#65039\;</span></span><span style="background:white\;"><span style="color:#1C1E21\;">Sam&#39\;s Club</span></span><br />\n<span style="background:white\;"><span style="color:#1C1E21\;">Shaker&#39\;s</span></span><br />\n<span style="background:white\;"><span style="color:#1C1E21\;">St. Joe</span></span><br />\n<span style="background:white\;"><span style="color:#1C1E21\;">MasterCorp</span></span><br />\n<span style="background:white\;"><span style="color:#1C1E21\;">US Census</span></span><br />\n<span style="background:white\;"><span style="color:#1C1E21\;">TouchPoint</span></span><br />\n<span style="color:#1C1E21\;"><span style="background:white\;">and more!</span></span></span></span>
LOCATION:409 Racetrack Rd. NE\, Ft. Walton Beach
UID:e.885.24078
SEQUENCE:3
DTSTAMP:20260420T020103Z
URL:https://business.waltonareachamber.com/events/details/careersource-okaloosa-walton-mini-job-fair-24078
END:VEVENT

END:VCALENDAR
