BEGIN:VCALENDAR
VERSION:2.0
PRODID:-//ChamberMaster//Event Calendar 2.0//EN
METHOD:PUBLISH
X-PUBLISHED-TTL:P3D
REFRESH-INTERVAL:P3D
CALSCALE:GREGORIAN
BEGIN:VEVENT
DTSTART:20251104T163000Z
DTEND:20251104T173000Z
X-MICROSOFT-CDO-ALLDAYEVENT:FALSE
SUMMARY:Caregiver Support Group
DESCRIPTION:We have a monthly caregiver support group for anyone caring for a loved one with chronic or terminal illness. We will provide support and resources to anyone in need of friendly sharing and opportunities to receive free help in the home.\n\n\n\nIt will be on 11/4 this month due to Veterans Day celebrations on the 11th
X-ALT-DESC;FMTTYPE=text/html:<span style="font-size:16px\;">We have a monthly caregiver support group for anyone caring for a loved one with chronic or terminal illness. We will provide support and resources to anyone in need of friendly sharing and opportunities to receive free help in the home.<br />\n<br />\n<span style="color:#FF0000\;">It will be on 11/4 this month due to Veterans Day celebrations on the 11<sup>th</sup></span></span><br />\n&nbsp\;
LOCATION:Brookdale Destin - Please enter through the Sandestin community. Address is 2400 Crystal Cove Lane.
UID:e.885.55257
SEQUENCE:3
DTSTAMP:20260422T154536Z
URL:https://business.waltonareachamber.com/events/details/caregiver-support-group-11-11-2025-55257
END:VEVENT

END:VCALENDAR
