BEGIN:VCALENDAR
VERSION:2.0
PRODID:-//ChamberMaster//Event Calendar 2.0//EN
METHOD:PUBLISH
X-PUBLISHED-TTL:P3D
REFRESH-INTERVAL:P3D
CALSCALE:GREGORIAN
BEGIN:VEVENT
DTSTART:20260329T163000Z
DTEND:20260329T193000Z
X-MICROSOFT-CDO-ALLDAYEVENT:FALSE
SUMMARY:Caring & Sharing Spring Fashion Show
DESCRIPTION:Caring & Sharing Spring Fashion Show\n\nJoin Caring and Sharing for our Spring Fashion Show presented by Emerald Coast Hospice Care on Sunday\, March 29th at the Hilton Sandestin Beach Golf Resort & Spa.\n\nDuring the event\, guests will enjoy a fashion show\, lunch\, a complimentary welcome drink\, a silent auction\, music\, a photo booth\, and more! Volunteers and supporters of the organization will walk the runway modeling items donated to the Caring & Sharing Thrift Store.These items will be for sale after the Fashion Show at our pop-up boutique curated specifically for this event!\n\n\n\nWe are pleased to offer individual tickets\, as well as the ability to reserve a table for eight or ten guests. \n\n\n\nTickets are  $75.\n\n \n\nNew this year\, our reserved tables are now VIP tables and include front row seating and prosecco on the table! $800 for a table of eight and $1\,000 for a table of 10.\n\nSponsorship opportunities are available. If your business is interested in sponsoring or donating an item to the silent auction\, email Carly@caringandsharingsowal.org
X-ALT-DESC;FMTTYPE=text/html:<h2 style="box-sizing: border-box\; padding: 0px\; margin: 0px\; color: rgb(88\, 81\, 99)\; font-family: &quot\;Neue Plak&quot\;\, -apple-system\, BlinkMacSystemFont\, Roboto\, &quot\;Helvetica Neue&quot\;\, Helvetica\, Tahoma\, Arial\, sans-serif\; letter-spacing: 0.1px\;">Caring &amp\; Sharing Spring Fashion Show</h2>\n\n<p style="box-sizing: border-box\; padding: 0px 0px 12px\; margin: 12px 0px 0px\; color: rgb(88\, 81\, 99)\; font-family: &quot\;Neue Plak&quot\;\, -apple-system\, BlinkMacSystemFont\, Roboto\, &quot\;Helvetica Neue&quot\;\, Helvetica\, Tahoma\, Arial\, sans-serif\; font-size: 18px\; letter-spacing: 0.1px\;">Join Caring and Sharing for our Spring Fashion Show presented by Emerald Coast Hospice Care on Sunday\, March 29th at the Hilton Sandestin Beach Golf Resort &amp\; Spa.</p>\n\n<p style="box-sizing: border-box\; padding: 0px 0px 12px\; margin: 12px 0px 0px\; color: rgb(88\, 81\, 99)\; font-family: &quot\;Neue Plak&quot\;\, -apple-system\, BlinkMacSystemFont\, Roboto\, &quot\;Helvetica Neue&quot\;\, Helvetica\, Tahoma\, Arial\, sans-serif\; font-size: 18px\; letter-spacing: 0.1px\;">During the event\, guests will enjoy a fashion show\, lunch\, a complimentary welcome drink\, a silent auction\, music\, a photo booth\, and more! Volunteers and supporters of the organization will walk the runway modeling items donated to the Caring &amp\; Sharing Thrift Store.These items will be for sale after the Fashion Show at our pop-up boutique curated specifically for this event!</p>\n\n<p style="box-sizing: border-box\; padding: 0px 0px 12px\; margin: 12px 0px 0px\; color: rgb(88\, 81\, 99)\; font-family: &quot\;Neue Plak&quot\;\, -apple-system\, BlinkMacSystemFont\, Roboto\, &quot\;Helvetica Neue&quot\;\, Helvetica\, Tahoma\, Arial\, sans-serif\; font-size: 18px\; letter-spacing: 0.1px\;"><br style="box-sizing: border-box\; padding: 0px\; margin: 0px\;" />\nWe are pleased to offer individual tickets\, as well as the ability to reserve a table for eight or ten guests.&nbsp\;<br />\n<br />\nTickets are&nbsp\; $75.</p>\n\n<p style="box-sizing: border-box\; padding: 0px 0px 12px\; margin: 12px 0px 0px\; color: rgb(88\, 81\, 99)\; font-family: &quot\;Neue Plak&quot\;\, -apple-system\, BlinkMacSystemFont\, Roboto\, &quot\;Helvetica Neue&quot\;\, Helvetica\, Tahoma\, Arial\, sans-serif\; font-size: 18px\; letter-spacing: 0.1px\;">&nbsp\;</p>\n\n<p style="box-sizing: border-box\; padding: 0px 0px 12px\; margin: 12px 0px 0px\; color: rgb(88\, 81\, 99)\; font-family: &quot\;Neue Plak&quot\;\, -apple-system\, BlinkMacSystemFont\, Roboto\, &quot\;Helvetica Neue&quot\;\, Helvetica\, Tahoma\, Arial\, sans-serif\; font-size: 18px\; letter-spacing: 0.1px\;">New this year\, our reserved tables are now VIP tables and include front row seating and prosecco on the table! $800 for a table of eight and $1\,000 for a table of 10.</p>\n\n<p style="box-sizing: border-box\; padding: 0px 0px 12px\; margin: 12px 0px 0px\; color: rgb(88\, 81\, 99)\; font-family: &quot\;Neue Plak&quot\;\, -apple-system\, BlinkMacSystemFont\, Roboto\, &quot\;Helvetica Neue&quot\;\, Helvetica\, Tahoma\, Arial\, sans-serif\; font-size: 18px\; letter-spacing: 0.1px\;">Sponsorship opportunities are available. If your business is interested in sponsoring or donating an item to the silent auction\, email Carly@caringandsharingsowal.org</p>\n
LOCATION:Hilton Sandestin Beach Golf Resort & Spa
UID:e.885.56760
SEQUENCE:3
DTSTAMP:20260422T094151Z
URL:https://business.waltonareachamber.com/events/details/caring-sharing-spring-fashion-show-56760
END:VEVENT

END:VCALENDAR
