BEGIN:VCALENDAR
VERSION:2.0
PRODID:-//ChamberMaster//Event Calendar 2.0//EN
METHOD:PUBLISH
X-PUBLISHED-TTL:P3D
REFRESH-INTERVAL:P3D
CALSCALE:GREGORIAN
BEGIN:VEVENT
DTSTART:20210602T160000Z
DTEND:20210602T170000Z
X-MICROSOFT-CDO-ALLDAYEVENT:FALSE
SUMMARY:Carnegie Cafe'
DESCRIPTION:Carnegie' Cafe: Embrace the Chaos! Ways to Engage in Our New Environment\n\n\n\nCarnegie Cafe' is a new way to engage with other Emerald Coast leaders to address timely business topics.\n\n\n\nThis complimentary round-table with other senior leaders will focus on:\n\n	Double your organization's engagement by making more effective decisions\n	Identify skills that will enhance emotions leading to higher engagement.\n	Discuss challenges\, share best practices and expand the network
X-ALT-DESC;FMTTYPE=text/html:<span style="font-size:14px\;"><span style="font-family:arial\;"><strong>Carnegie&#39\; Cafe: Embrace the Chaos! Ways to Engage in Our New Environment</strong><br />\n<br />\nCarnegie Cafe&#39\; is a new way to engage with other Emerald Coast leaders to address timely business topics.<br />\n<br />\nThis complimentary round-table with other senior leaders will focus on:</span></span>\n<ul>\n	<li><span style="font-size:14px\;"><span style="font-family:arial\;">Double your organization&#39\;s engagement by making more effective decisions</span></span></li>\n	<li><span style="font-size:14px\;"><span style="font-family:arial\;">Identify skills that will enhance emotions leading to higher engagement.</span></span></li>\n	<li><span style="font-size:14px\;"><span style="font-family:arial\;">Discuss challenges\, share best practices and expand the network</span></span></li>\n</ul>\n
LOCATION:ONLINE. Click HERE to sign up!
UID:e.885.31099
SEQUENCE:3
DTSTAMP:20260422T200253Z
URL:https://business.waltonareachamber.com/events/details/carnegie-cafe-31099
END:VEVENT

END:VCALENDAR
