BEGIN:VCALENDAR
VERSION:2.0
PRODID:-//ChamberMaster//Event Calendar 2.0//EN
METHOD:PUBLISH
X-PUBLISHED-TTL:P3D
REFRESH-INTERVAL:P3D
CALSCALE:GREGORIAN
BEGIN:VEVENT
DTSTART:20211104T233000Z
DTEND:20211105T013000Z
X-MICROSOFT-CDO-ALLDAYEVENT:FALSE
SUMMARY:Champagne Social The Courtyard at Pescado Rosemary Beach with Moet Hennessy and Coastal Pacific Wine & Spirits
DESCRIPTION:Champagne Social\n\nThe Courtyard at Pescado Rosemary Beach\n\nwith Moet Hennessy and Coastal Pacific Wine & Spirits\n\n\n\nFeaturing Moet & Chandon\, Veuve Clicquot and Ruinart\n\n \nThe Courtyard at Pescado welcomes you to a Champagne Social with Moet Hennessy and Coastal Pacific Wine and Spirits on Thursday\, November 4\, 2021\, from 6:30 p.m to 8:30 p.m. Indulge in fine champagne featuring Moet & Chandon\, Veuve Clicquot\, Ruinart and eclectic small bites. Tickets: $250 + 7% tax and 22% gratuity. Please email events@thelcrg.com to book your spot. This is an exclusive event with limited tickets available. \n\n \n\n\nAbout Pescado:\n\nThe Courtyard at Pescado\, a garden courtyard and lounge\, offers small bites\, craft cocktails and an extensive wine list. It is located under Pescado   Seafood Grill and Rooftop Bar in Rosemary Beach which overlooks the Gulf of Mexico and provides extraordinary service and cuisine. Pescado's subtle coastal colors\, clean lines\, and soft lighting provide a space that invites and complements the elements and scenery of the Emerald Coast. Pescado offers an eclectic menu by Chef Ken Duenas. An extensive wine list is heavy on both new world and old world high-end wines. Pescado also boasts craft cocktails with the finest spirits. Guests love to sip and enjoy the spectacular view of Rosemary Beach rooftop architecture and the emerald waters of the Gulf of Mexico while dining. Pescado and The Courtyard at Pescado are part of Last Call Restaurant Group that also owns Shades Bar and Grill and Shaka Sushi and Noodle Bar.\n\n \n\nMore about The Courtyard at Pescado: rooftop30a.com/the-courtyard\n\n\nGraphics including Instagram story are attached.
X-ALT-DESC;FMTTYPE=text/html:<span style="font-size:14px\;"><span style="font-family:arial\;">Champagne Social<br />\nThe Courtyard at Pescado Rosemary Beach<br />\nwith Moet Hennessy and Coastal Pacific Wine &amp\; Spirits<br />\n<br />\nFeaturing Moet &amp\; Chandon\, Veuve Clicquot and Ruinart</span></span><br />\n&nbsp\;\n<div style="color:rgb(0\, 0\, 0)\;"><span style="font-size:14px\;"><span style="font-family:arial\;">The Courtyard at Pescado welcomes you to a Champagne Social with Moet Hennessy and Coastal Pacific Wine and Spirits on Thursday\, November 4\, 2021\, from 6:30 p.m to 8:30 p.m. Indulge in fine champagne featuring Moet &amp\; Chandon\, Veuve Clicquot\, Ruinart and eclectic small bites. Tickets: $250 + 7% tax and 22% gratuity. Please email&nbsp\;<a href="mailto:events@thelcrg.com" style="color:blue\;">events@thelcrg.com</a>&nbsp\;to book your spot. This is an exclusive&nbsp\;event with limited tickets available.&nbsp\;</span></span></div>\n\n<div style="color:rgb(0\, 0\, 0)\;"><span style="font-size:14px\;"><span style="font-family:arial\;">&nbsp\;</span></span></div>\n\n<div style="color:rgb(0\, 0\, 0)\;">\n<div><span style="font-size:14px\;"><span style="font-family:arial\;"><strong>About Pescado:</strong><br />\nThe Courtyard at Pescado\, a garden courtyard and lounge\, offers small bites\, craft cocktails and an extensive wine list. It is located under Pescado &bull\; Seafood Grill and Rooftop Bar in Rosemary Beach which overlooks the Gulf of Mexico and provides extraordinary service and cuisine. Pescado&rsquo\;s subtle coastal colors\, clean lines\, and soft lighting provide a space that invites and complements the elements and scenery of the Emerald Coast. Pescado offers an eclectic menu by Chef Ken Duenas. An extensive wine list is heavy on both new world and old world high-end wines. Pescado also boasts craft cocktails with the finest spirits. Guests love to sip and enjoy the spectacular view of Rosemary Beach rooftop architecture and the emerald waters of the Gulf of Mexico while dining. Pescado and The Courtyard at Pescado are part of Last Call Restaurant Group that also owns Shades Bar and Grill and Shaka Sushi and Noodle Bar.</span></span>\n\n<div><span style="font-size:14px\;"><span style="font-family:arial\;">&nbsp\;</span></span></div>\n\n<div><span style="font-size:14px\;"><span style="font-family:arial\;">More about The Courtyard at Pescado:&nbsp\;<a href="http://rooftop30a.com/the-courtyard" style="color:blue\;" target="_blank">rooftop30a.com/the-courtyard</a></span></span></div>\n</div>\n\n<div><span style="font-size:14px\;"><span style="font-family:arial\;">Graphics including Instagram story are attached.&nbsp\;</span></span></div>\n</div>\n<br />\n<br />\n&nbsp\;
LOCATION:The Courtyard at Pescado Rosemary Beach
UID:e.885.32599
SEQUENCE:3
DTSTAMP:20260423T044519Z
URL:https://business.waltonareachamber.com/events/details/champagne-social-the-courtyard-at-pescado-rosemary-beach-with-moet-hennessy-and-coastal-pacific-wine-spirits-32599
END:VEVENT

END:VCALENDAR
