BEGIN:VCALENDAR
VERSION:2.0
PRODID:-//ChamberMaster//Event Calendar 2.0//EN
METHOD:PUBLISH
X-PUBLISHED-TTL:P3D
REFRESH-INTERVAL:P3D
CALSCALE:GREGORIAN
BEGIN:VEVENT
DTSTART:20230329T210000Z
DTEND:20230330T030000Z
X-MICROSOFT-CDO-ALLDAYEVENT:FALSE
SUMMARY:Chef Showcase
DESCRIPTION:We are celebrating Chef Keith and Chef Chris's incredible culinary skills with a Chef Showcase featuring Spanish Tapas complimented by the Northwest Florida Symphony Orchestra String Quartet\, and you are invited!    Please reply to this email or call to RSVP.   I hope that you can join us!
X-ALT-DESC;FMTTYPE=text/html:We are celebrating Chef Keith and Chef Chris&rsquo\;s incredible culinary skills with a Chef Showcase featuring Spanish Tapas complimented by the Northwest Florida Symphony Orchestra String Quartet\, and you are invited!&nbsp\;&nbsp\;&nbsp\; Please reply to this email or call to RSVP.&nbsp\;&nbsp\; I hope that you can join us!
LOCATION:The Blake at Miramar Beach
UID:e.885.34392
SEQUENCE:3
DTSTAMP:20260424T051725Z
URL:https://business.waltonareachamber.com/events/details/chef-showcase-34392
END:VEVENT

END:VCALENDAR
