BEGIN:VCALENDAR
VERSION:2.0
PRODID:-//ChamberMaster//Event Calendar 2.0//EN
METHOD:PUBLISH
X-PUBLISHED-TTL:P3D
REFRESH-INTERVAL:P3D
CALSCALE:GREGORIAN
BEGIN:VEVENT
DTSTART:20220308T000000Z
DTEND:20220308T010000Z
X-MICROSOFT-CDO-ALLDAYEVENT:FALSE
SUMMARY:Chit Chat and That Invite
DESCRIPTION:A Bed 4 Me is hosting two social events that are open to anyone. Want to meet other B4Me volunteers\, staff and board members\, hear what's coming up or like to know more about A Bed 4 Me? Visit us at one of the two opportunities above. Come as you are and stop in to say hi!\n\nRSVP:\n\nDIANE@ABED4ME.ORG\n\n850.280.5519\n\nwww.abed4me.or
X-ALT-DESC;FMTTYPE=text/html:A Bed 4 Me is hosting two social events that are open to anyone. Want to meet other B4Me volunteers\, staff and board members\, hear what&#39\;s coming up or like to know more about A Bed 4 Me? Visit us at one of the two opportunities above. Come as you are and stop in to say hi!<br />\nRSVP:<br />\nDIANE@ABED4ME.ORG<br />\n850.280.5519<br />\nwww.abed4me.or
LOCATION:Hammock Bay Lake Club 1850 Great Hammock Bend Freeport\, FL 32439 Light refreshments will be served
UID:e.885.33337
SEQUENCE:3
DTSTAMP:20260423T111258Z
URL:https://business.waltonareachamber.com/events/details/chit-chat-and-that-invite-33337
END:VEVENT

END:VCALENDAR
