BEGIN:VCALENDAR
VERSION:2.0
PRODID:-//ChamberMaster//Event Calendar 2.0//EN
METHOD:PUBLISH
X-PUBLISHED-TTL:P3D
REFRESH-INTERVAL:P3D
CALSCALE:GREGORIAN
BEGIN:VEVENT
DTSTART:20211204T180000Z
DTEND:20211204T210000Z
X-MICROSOFT-CDO-ALLDAYEVENT:FALSE
SUMMARY:Christmas at the Beach Calling All Vendors & Artisans
DESCRIPTION:We invite you to participate in Hope's Christmas at the Beach on Saturday\, December 4th\, 12:00 - 3:00 pm at Gulf Place Amphitheater. We are excited for your contribution to this Christ-centered community event as a vendor of your craft and trade. We look forward to showcasing the amazing talents and passions of our local artisans. We look forward to hearing from you\, meeting you\, and seeing you at Hope's Christmas at the Beach!\n\nIf you would like more information\, contact Cindy Holditch (cholditch224@yahoo.com).
X-ALT-DESC;FMTTYPE=text/html:<span style="font-size:14px\;">We invite you to participate in Hope&rsquo\;s Christmas at the Beach on Saturday\, December 4th\, 12:00 - 3:00 pm at Gulf Place Amphitheater. We are excited for your contribution to this Christ-centered community event as a vendor of your craft and trade. We look forward to showcasing the amazing talents and passions of our local artisans. We look forward to hearing from you\, meeting you\, and seeing you at Hope&rsquo\;s Christmas at the Beach!<br />\nIf you would like more information\, contact Cindy Holditch (<a href="mailto:cholditch224@yahoo.com">cholditch224@yahoo.com</a>).</span><br />\n&nbsp\;
LOCATION:Gulf Place Amphitheater
UID:e.885.32601
SEQUENCE:3
DTSTAMP:20260423T080630Z
URL:https://business.waltonareachamber.com/events/details/christmas-at-the-beach-calling-all-vendors-artisans-32601
END:VEVENT

END:VCALENDAR
