BEGIN:VCALENDAR
VERSION:2.0
PRODID:-//ChamberMaster//Event Calendar 2.0//EN
METHOD:PUBLISH
X-PUBLISHED-TTL:P3D
REFRESH-INTERVAL:P3D
CALSCALE:GREGORIAN
BEGIN:VEVENT
DTSTART:20230312T013000Z
DTEND:20230312T053000Z
X-MICROSOFT-CDO-ALLDAYEVENT:FALSE
SUMMARY:Classical Connections featuring Geneva Lewis\, Violin
DESCRIPTION:New Zealand-born violinist Geneva Lewis has forged a reputation as a musician of consummate artistry whose performances speak from and to the heart. Lauded for "remarkable mastery of her instrument" (CVNC) and hailed as "clearly one to watch" (Musical America)\, Geneva is the recipient of a 2022 Borletti-Buitoni Trust Award\, 2021 Avery Fisher Career Grant and Grand Prize winner of the 2020 Concert Artists Guild Competition. Deeply passionate about collaboration\, Geneva has had the pleasure of performing with prominent musicians such as Jonathan Biss\, Glenn Dicterow\, Miriam Fried\, Kim Kashkashian\, Gidon Kremer\, Marcy Rosen\, Sir Andr s Schiff\, and Mitsuko Uchida\, among many others.
X-ALT-DESC;FMTTYPE=text/html:New Zealand-born violinist Geneva Lewis has forged a reputation as a musician of consummate artistry whose performances speak from and to the heart. Lauded for &ldquo\;remarkable mastery of her instrument&rdquo\; (CVNC) and hailed as &ldquo\;clearly one to watch&rdquo\; (Musical America)\, Geneva is the recipient of a 2022 Borletti-Buitoni Trust Award\, 2021 Avery Fisher Career Grant and Grand Prize winner of the 2020 Concert Artists Guild Competition. Deeply passionate about collaboration\, Geneva has had the pleasure of performing with prominent musicians such as Jonathan Biss\, Glenn Dicterow\, Miriam Fried\, Kim Kashkashian\, Gidon Kremer\, Marcy Rosen\, Sir Andr&aacute\;s Schiff\, and Mitsuko Uchida\, among many others.
LOCATION:Destin High School 4325 Commons Dr W\, Destin\, FL 32541
UID:e.885.34069
SEQUENCE:3
DTSTAMP:20260424T051810Z
URL:https://business.waltonareachamber.com/events/details/classical-connections-featuring-geneva-lewis-violin-34069
END:VEVENT

END:VCALENDAR
