BEGIN:VCALENDAR
VERSION:2.0
PRODID:-//ChamberMaster//Event Calendar 2.0//EN
METHOD:PUBLISH
X-PUBLISHED-TTL:P3D
REFRESH-INTERVAL:P3D
CALSCALE:GREGORIAN
BEGIN:VEVENT
DTSTART:20250405T003000Z
DTEND:20250405T033000Z
X-MICROSOFT-CDO-ALLDAYEVENT:FALSE
SUMMARY:Classical Connections: Howard Levy\, Harmonica + Piano
DESCRIPTION:Prepare to be awed by the talents of Howard Levy\, two-time Grammy award-winning pianist\, diatonic harmonica player\, and composer. By developing new techniques on the harmonica\, Levy has transformed the instrument in its usage\, making it multi-faceted among all genres of music. He has released two albums and a classical CD featuring his own composition\, Concerto for Diatonic Harmonica and Orchestra\, the first true concerto of its kind\, which Sinfonia Gulf Coast premiered (U.S. Southeast) in 2009. Levy is a performer\, composer\, and educator whose technique book\, Rhythms of the Breath has revolutionized the playing of the harmonica across the world. Experience the unique\, fascinating world of Howard Levy at Classical Connections. Additional repertoire TBD.
X-ALT-DESC;FMTTYPE=text/html:Prepare to be awed by the talents of Howard Levy\, two-time Grammy award-winning pianist\, diatonic harmonica player\, and composer. By developing new techniques on the harmonica\, Levy has transformed the instrument in its usage\, making it multi-faceted among all genres of music. He has released two albums and a classical CD featuring his own composition\, Concerto for Diatonic Harmonica and Orchestra\, the first true concerto of its kind\, which Sinfonia Gulf Coast premiered (U.S. Southeast) in 2009. Levy is a performer\, composer\, and educator whose technique book\, Rhythms of the Breath has revolutionized the playing of the harmonica across the world. Experience the unique\, fascinating world of Howard Levy at Classical Connections. Additional repertoire TBD.
LOCATION:Destin High School 4325 Commons Drive W\, Destin\, FL 32541
UID:e.885.45045
SEQUENCE:3
DTSTAMP:20260423T030948Z
URL:https://business.waltonareachamber.com/events/details/classical-connections-howard-levy-harmonica-piano-45045
END:VEVENT

END:VCALENDAR
