BEGIN:VCALENDAR
VERSION:2.0
PRODID:-//ChamberMaster//Event Calendar 2.0//EN
METHOD:PUBLISH
X-PUBLISHED-TTL:P3D
REFRESH-INTERVAL:P3D
CALSCALE:GREGORIAN
BEGIN:VEVENT
DTSTART:20211114T013000Z
DTEND:20211114T030000Z
X-MICROSOFT-CDO-ALLDAYEVENT:FALSE
SUMMARY:Classical Mystery Tour
DESCRIPTION:Imagine The Beatles playing in concert with a symphony orchestra. What would that have sounded like? Attendees will find out when the Classical Mystery Tour performs live with Sinfonia Gulf Coast. The four musicians in the Classical Mystery Tour look and sound just like The Beatles\, but the Classical Mystery Tour is more than just a rock concert. The full show presents two dozen Beatles tunes sung\, played\, and performed exactly as they were written. Attendees will hear "Penny Lane" with a live trumpet section\; experience the beauty of "Yesterday" with an acoustic guitar and string quartet\; enjoy the rock/classical blend on the hard-edged "I Am the Walrus." From early Beatles music through the solo years\, Classical MysteryTour is the best of The Beatles like you've never heard them: totally live.
X-ALT-DESC;FMTTYPE=text/html:Imagine The Beatles playing in concert with a symphony orchestra. What would that have sounded like? Attendees will find out when the Classical Mystery Tour performs live with Sinfonia Gulf Coast. The four musicians in the Classical Mystery Tour look and sound just like The Beatles\, but the Classical Mystery Tour is more than just a rock concert. The full show presents two dozen Beatles tunes sung\, played\, and performed exactly as they were written. Attendees will hear &ldquo\;Penny Lane&rdquo\; with a live trumpet section\; experience the beauty of &ldquo\;Yesterday&rdquo\; with an acoustic guitar and string quartet\; enjoy the rock/classical blend on the hard-edged &ldquo\;I Am the Walrus.&rdquo\; From early Beatles music through the solo years\, Classical MysteryTour is the best of The Beatles like you&rsquo\;ve never heard them: totally live.
LOCATION:Village Baptist Church 101 Matthew Blvd\, Destin\, FL 32541
UID:e.885.32596
SEQUENCE:3
DTSTAMP:20260423T043640Z
URL:https://business.waltonareachamber.com/events/details/classical-mystery-tour-32596
END:VEVENT

END:VCALENDAR
