BEGIN:VCALENDAR
VERSION:2.0
PRODID:-//ChamberMaster//Event Calendar 2.0//EN
METHOD:PUBLISH
X-PUBLISHED-TTL:P3D
REFRESH-INTERVAL:P3D
CALSCALE:GREGORIAN
BEGIN:VEVENT
DTSTART:20250828T203000Z
DTEND:20250828T220000Z
X-MICROSOFT-CDO-ALLDAYEVENT:FALSE
SUMMARY:Coastal Cowgirl 30a Grand Opening & Ribbon Cutting
DESCRIPTION:Coastal Cowgirl 30A Grand Opening & Ribbon Cutting!\n\nCelebrate the grand opening of Coastal Cowgirl 30A with us! This exciting new business is bringing fresh energy and style to the community\, and we can't wait to welcome them.\n\n  Date: August 28\, 2025\n\n  Time: 3:30 PM (Ribbon Cutting at 3:45 PM)\n\n  Location: 4164 W. County Hwy 30A\, Santa Rosa Beach\, FL 32459\n\nEnjoy light hors d'oeuvres and drinks provided by Gussy Up 30A as we come together to support this new local business. Don't miss the chance to celebrate\, connect\, and be part of this special moment!
X-ALT-DESC;FMTTYPE=text/html:<p data-end="110" data-start="70"><strong data-end="108" data-start="70">Coastal Cowgirl 30A Grand Opening &amp\; Ribbon Cutting!</strong></p>\n\n<p data-end="292" data-start="112">Celebrate the grand opening of <strong data-end="166" data-start="143">Coastal Cowgirl 30A</strong> with us! This exciting new business is bringing fresh energy and style to the community\, and we can&rsquo\;t wait to welcome them.</p>\n\n<p data-end="444" data-start="294">&#128197\; <strong data-end="306" data-start="297">Date:</strong> August 28\, 2025<br data-end="325" data-start="322" />\n&#9200\; <strong data-end="336" data-start="327">Time:</strong> 3:30 PM (Ribbon Cutting at 3:45 PM)<br data-end="375" data-start="372" />\n&#128205\; <strong data-end="391" data-start="378">Location:</strong> 4164 W. County Hwy 30A\, Santa Rosa Beach\, FL 32459</p>\n\n<p data-end="651" data-start="446">Enjoy light hors d&rsquo\;oeuvres and drinks provided by <strong data-end="512" data-start="496">Gussy Up 30A</strong> as we come together to support this new local business. Don&rsquo\;t miss the chance to celebrate\, connect\, and be part of this special moment!</p>\n
LOCATION:4164 W. County Hwy 30A\, Santa Rosa Beach\, FL 32459
UID:e.885.55983
SEQUENCE:3
DTSTAMP:20260422T205750Z
URL:https://business.waltonareachamber.com/events/details/coastal-cowgirl-30a-grand-opening-ribbon-cutting-55983
END:VEVENT

END:VCALENDAR
