BEGIN:VCALENDAR
VERSION:2.0
PRODID:-//ChamberMaster//Event Calendar 2.0//EN
METHOD:PUBLISH
X-PUBLISHED-TTL:P3D
REFRESH-INTERVAL:P3D
CALSCALE:GREGORIAN
BEGIN:VEVENT
DTSTART:20220317T123000Z
DTEND:20220317T140000Z
X-MICROSOFT-CDO-ALLDAYEVENT:FALSE
SUMMARY:Coffee for a Cause
DESCRIPTION:Coffee for a Cause
X-ALT-DESC;FMTTYPE=text/html:Coffee for a Cause
LOCATION:Emerald Coast Theatre Company in Grand Boulevard
UID:e.885.33567
SEQUENCE:3
DTSTAMP:20260423T111257Z
URL:https://business.waltonareachamber.com/events/details/coffee-for-a-cause-33567
END:VEVENT

END:VCALENDAR
