BEGIN:VCALENDAR
VERSION:2.0
PRODID:-//ChamberMaster//Event Calendar 2.0//EN
METHOD:PUBLISH
X-PUBLISHED-TTL:P3D
REFRESH-INTERVAL:P3D
CALSCALE:GREGORIAN
BEGIN:VEVENT
DTSTART:20211106T120000Z
DTEND:20211106T190000Z
X-MICROSOFT-CDO-ALLDAYEVENT:FALSE
SUMMARY:Community Dune Restoration organized by Trees on the Coast
DESCRIPTION:Community Dune Restoration organized by Trees on the Coast
X-ALT-DESC;FMTTYPE=text/html:Community Dune Restoration organized by Trees on the Coast
LOCATION:Meeting at Beasley Parking Lot for Briefing and Breakfast
UID:e.885.32615
SEQUENCE:3
DTSTAMP:20260423T063327Z
URL:https://business.waltonareachamber.com/events/details/community-dune-restoration-organized-by-trees-on-the-coast-32615
END:VEVENT

END:VCALENDAR
