BEGIN:VCALENDAR
VERSION:2.0
PRODID:-//ChamberMaster//Event Calendar 2.0//EN
METHOD:PUBLISH
X-PUBLISHED-TTL:P3D
REFRESH-INTERVAL:P3D
CALSCALE:GREGORIAN
BEGIN:VEVENT
DTSTART:20240405T000000Z
DTEND:20240405T030000Z
X-MICROSOFT-CDO-ALLDAYEVENT:FALSE
SUMMARY:Concert in the Village: Post Modern Jukebox
DESCRIPTION:Kick-Off Membership Appreciation Event from 5 to 6 p.m. One part celebration of vintage music and culture\, one part Saturday Night Live for singers\, a Postmodern Jukebox show is an unforgettable trip back in time sure to make Pop Music History in Destin. This isn't just a concert\; this is a must-not-miss music experience. MKAF member appreciation event at 5 p.m. Doors open at 6 p.m. and concerts start at 7 p.m. Tickets are $30-$35 in advance. Purchase early and save $5 at the door. Proceeds benefit MKAF and its community education initiative\, ArtsReach including the groundbreaking arts therapy program\, Warrior Arts\, Arts for All Abilities\, and arts education throughout Okaloosa\, Walton\, and Bay Counties.
X-ALT-DESC;FMTTYPE=text/html:Kick-Off Membership Appreciation Event from 5 to 6 p.m. One part celebration of vintage music and culture\, one part Saturday Night Live for singers\, a Postmodern Jukebox show is an unforgettable trip back in time sure to make Pop Music History in Destin. This isn&rsquo\;t just a concert\; this is a must-not-miss music experience. MKAF member appreciation event at 5 p.m. Doors open at 6 p.m. and concerts start at 7 p.m. Tickets are $30-$35 in advance. Purchase early and save $5 at the door. Proceeds benefit MKAF and its community education initiative\, ArtsReach including the groundbreaking arts therapy program\, Warrior Arts\, Arts for All Abilities\, and arts education throughout Okaloosa\, Walton\, and Bay Counties.
LOCATION:Mattie Kelly Arts Foundation 4323 Commons Dr W\, Destin\, FL 32541
UID:e.885.36134
SEQUENCE:3
DTSTAMP:20260425T230836Z
URL:https://business.waltonareachamber.com/events/details/concert-in-the-village-post-modern-jukebox-36134
END:VEVENT

END:VCALENDAR
