BEGIN:VCALENDAR
VERSION:2.0
PRODID:-//ChamberMaster//Event Calendar 2.0//EN
METHOD:PUBLISH
X-PUBLISHED-TTL:P3D
REFRESH-INTERVAL:P3D
CALSCALE:GREGORIAN
BEGIN:VEVENT
DTSTART:20250410T230000Z
DTEND:20250411T020000Z
X-MICROSOFT-CDO-ALLDAYEVENT:FALSE
SUMMARY:Concerts in the Village: The Fabulous Thunderbirds
DESCRIPTION:The Fabulous Thunderbirds kick off the 2025 Concerts in the Village with their iconic blend of blues and rock. Known for hits like Tuff Enuff and Wrap It Up\, this band delivers an electrifying must-not-miss performance. Gather with family\, friends\, and colleagues at the Dugas Pavilion stage in Destin for this must-not-miss family-friendly fun. Bring a blanket or chair and enjoy dinner al fresco from local restaurants and food trucks.
X-ALT-DESC;FMTTYPE=text/html:The Fabulous Thunderbirds kick off the 2025 Concerts in the Village with their iconic blend of blues and rock. Known for hits like Tuff Enuff and Wrap It Up\, this band delivers an electrifying must-not-miss performance. Gather with family\, friends\, and colleagues at the Dugas Pavilion stage in Destin for this must-not-miss family-friendly fun. Bring a blanket or chair and enjoy dinner al fresco from local restaurants and food trucks.
LOCATION:Mattie Kelly Arts Foundation 4323 Commons Dr W\, Destin\, FL 32541
UID:e.885.54706
SEQUENCE:3
DTSTAMP:20260423T033122Z
URL:https://business.waltonareachamber.com/events/details/concerts-in-the-village-the-fabulous-thunderbirds-54706
END:VEVENT

END:VCALENDAR
