BEGIN:VCALENDAR
VERSION:2.0
PRODID:-//ChamberMaster//Event Calendar 2.0//EN
METHOD:PUBLISH
X-PUBLISHED-TTL:P3D
REFRESH-INTERVAL:P3D
CALSCALE:GREGORIAN
BEGIN:VEVENT
DTSTART:20240821T170000Z
DTEND:20240821T200000Z
X-MICROSOFT-CDO-ALLDAYEVENT:FALSE
SUMMARY:Cosmetic Injectable Event at Aqua Medical Spa
DESCRIPTION:Schedule your appointment for $12/unit Botox and 20% off fillers injected by board-certified dermatologist Dr. Audrey Kunin. Limited appointments available from 12:00-3:00PM. Call (850) 608-3050 to schedule. Rules and restrictions apply. See staff or visit aquamedicalspa.com/specials-events/ for complete details.
X-ALT-DESC;FMTTYPE=text/html:Schedule your appointment for $12/unit Botox and 20% off fillers injected by board-certified dermatologist Dr. Audrey Kunin. Limited appointments available from 12:00-3:00PM. Call (850) 608-3050 to schedule. Rules and restrictions apply. See staff or visit aquamedicalspa.com/specials-events/ for complete details.
LOCATION:82 Mack Bayou Loop Santa Rosa Beach\, FL
UID:e.885.41614
SEQUENCE:3
DTSTAMP:20260425T170701Z
URL:https://business.waltonareachamber.com/events/details/cosmetic-injectable-event-at-aqua-medical-spa-08-21-2024-41614
END:VEVENT

END:VCALENDAR
