BEGIN:VCALENDAR
VERSION:2.0
PRODID:-//ChamberMaster//Event Calendar 2.0//EN
METHOD:PUBLISH
X-PUBLISHED-TTL:P3D
REFRESH-INTERVAL:P3D
CALSCALE:GREGORIAN
BEGIN:VEVENT
DTSTART;VALUE=DATE:20211011
DTEND;VALUE=DATE:20211016
TRANSP:TRANSPARENT
X-MICROSOFT-CDO-ALLDAYEVENT:TRUE
SUMMARY:Costa Enterprises McDonald's Recognizing Local Teachers And Offering Free Breakfast “Thank You Meal” To All Educators Oct. 11 – Oct. 15
DESCRIPTION:WHAT:          McDonald's is proud to serve the people in our neighborhoods who help make our communities a better place   especially educators. Northwest Florida's local McDonald's organization\, Costa Enterprises McDonald's\, will be visiting Bluewater Bay Elementary on Tuesday\, October 12 at 8:15 a.m. to recognize three local educators including the school's 2021 "Teacher of the Year."\n\n \n\nThe celebration comes as McDonald's is making school day mornings a little brighter for educators across the country with a free breakfast "Thank You Meal" from Mon.\, Oct. 11 through Fri.\, Oct. 15.  All educators   such as teachers\, administrators\, and school staff - simply need to head to their local participating McDonald's during breakfast hours\, and show a valid work ID\, for a free meal   on us. Educators will receive a Happy Meal box filled with an entr e breakfast sandwich\, Hash Browns\, and a beverage.\n\n \n\nABOUT:       The owners\, managers and crew members of Costa Enterprises are dedicated to making your McDonald's visit an experience beyond expectations. Operating 21 McDonald's restaurants throughout Northwest Florida\, Costa Enterprises is committed to community involvement\, equal opportunity employment\, customer service excellence\, fast service\, and hot fresh food. For the latest news and information\, visit costamcd.com or like the Facebook page. \n\n \n\nWHO:           Spokespeople available for interviews:\n\nDavid Costa Sr.\, local McDonald's Owner/Operator\n\nDavid Costa Jr.\, local McDonald's Owner/Operator\n\nAmy Killebrew\, local McDonald's Owner/Operator
X-ALT-DESC;FMTTYPE=text/html:<span style="font-family:arial\;"><span style="font-size:14px\;"><strong>WHAT</strong>:&nbsp\;&nbsp\;&nbsp\;&nbsp\;&nbsp\;&nbsp\;&nbsp\;&nbsp\;&nbsp\;&nbsp\;McDonald&rsquo\;s is proud to serve the people in our neighborhoods who help make our communities a better place &ndash\; especially educators. Northwest Florida&rsquo\;s local McDonald&rsquo\;s organization\, Costa Enterprises McDonald&rsquo\;s\, will be visiting Bluewater Bay Elementary on Tuesday\, October 12 at 8:15 a.m. to recognize three local educators including the school&rsquo\;s 2021 &ldquo\;Teacher of the Year.&rdquo\;<br />\n&nbsp\;<br />\nThe celebration comes as McDonald&rsquo\;s is making school day mornings a little brighter for educators across the country with a free breakfast &ldquo\;Thank You Meal&rdquo\; from Mon.\, Oct. 11 through Fri.\, Oct. 15.&nbsp\;&nbsp\;All educators &ndash\; such as teachers\, administrators\, and school staff - simply need to head to their local participating McDonald&rsquo\;s during breakfast hours\, and show a valid work ID\, for a free meal &ndash\; on us. Educators will receive a Happy Meal box filled with an entr&eacute\;e breakfast sandwich\, Hash Browns\, and a beverage.<br />\n&nbsp\;<br />\n<strong>ABOUT:&nbsp\;&nbsp\;&nbsp\;&nbsp\;&nbsp\;&nbsp\;&nbsp\;</strong>The owners\, managers and crew members of Costa Enterprises are dedicated to making your McDonald&#39\;s visit an experience beyond expectations. Operating 21 McDonald&rsquo\;s restaurants throughout Northwest Florida\, Costa Enterprises is committed to community involvement\, equal opportunity employment\, customer service excellence\, fast service\, and hot fresh food. For the latest news and information\, visit costamcd.com or like the Facebook page.&nbsp\;<br />\n&nbsp\;<br />\n<strong>WHO:&nbsp\;&nbsp\;&nbsp\;&nbsp\;&nbsp\;&nbsp\;&nbsp\;&nbsp\;&nbsp\;&nbsp\;&nbsp\;</strong>Spokespeople available for interviews:<br />\nDavid Costa Sr.\, local McDonald&rsquo\;s Owner/Operator<br />\nDavid Costa Jr.\, local McDonald&rsquo\;s Owner/Operator<br />\nAmy Killebrew\, local McDonald&rsquo\;s Owner/Operator</span></span><br />\n&nbsp\;
LOCATION:Bluewater Bay Elementary School 4545 Range Road Niceville\, FL 32578
UID:e.885.32586
SEQUENCE:3
DTSTAMP:20260423T031417Z
URL:https://business.waltonareachamber.com/events/details/costa-enterprises-mcdonald-s-recognizing-local-teachers-and-offering-free-breakfast-thank-you-meal-to-all-educators-oct-11-oct-15-32586
END:VEVENT

END:VCALENDAR
