BEGIN:VCALENDAR
VERSION:2.0
PRODID:-//ChamberMaster//Event Calendar 2.0//EN
METHOD:PUBLISH
X-PUBLISHED-TTL:P3D
REFRESH-INTERVAL:P3D
CALSCALE:GREGORIAN
BEGIN:VEVENT
DTSTART:20210527T223000Z
DTEND:20210528T003000Z
X-MICROSOFT-CDO-ALLDAYEVENT:FALSE
SUMMARY:Craft and Commerce sponsored by Point Washington Preserve & Southland Utility Services
DESCRIPTION:Walton Area Chamber of Commerce in partnership with the Walton County Small Business Association presents Craft & Commerce sponsored by Point Washington Preserve & Southland Utility Services. \n\n\n\nJoin us for networking and a discussion on the proposed impact fee that is associated with the mobility study. \n\n\n\nThe event is free to attend.\n\n\n\nThank you to Southland Utility Services & Point Washington Preserve for sponsoring!
X-ALT-DESC;FMTTYPE=text/html:<span style="font-size:28px\;"><span style="font-family:arial\;"><strong>Walton Area Chamber of Commerce in partnership with the Walton County Small Business Association presents Craft &amp\; Commerce sponsored by&nbsp\;<span style="font-weight: 700\;">Point Washington Preserve &amp\; Southland Utility Services.&nbsp\;</span><br />\n<br />\n<strong font-size:="" style="color: rgb(51\, 51\, 51)\; font-family: sans-serif\, Arial\, Verdana\, " trebuchet="">Join us for networking and a discussion</strong>&nbsp\;on the proposed impact fee that is associated with the mobility study.&nbsp\;<br />\n<br />\n<strong font-size:="" style="color: rgb(51\, 51\, 51)\; font-family: sans-serif\, Arial\, Verdana\, " trebuchet="">The event is free to attend.</strong><br />\n<br />\nThank you to&nbsp\;<span background-color:="" font-size:="" google="">Southland Utility Services &amp\; Point Washington Preserve</span>&nbsp\;for sponsoring!</strong></span></span>
LOCATION:Point Washington Preserve 725 J D Miller Rd\, Santa Rosa Beach\, FL 32459
UID:e.885.31910
SEQUENCE:3
DTSTAMP:20260422T142924Z
URL:https://business.waltonareachamber.com/events/details/craft-and-commerce-sponsored-by-point-washington-preserve-southland-utility-services-31910
END:VEVENT

END:VCALENDAR
