BEGIN:VCALENDAR
VERSION:2.0
PRODID:-//ChamberMaster//Event Calendar 2.0//EN
METHOD:PUBLISH
X-PUBLISHED-TTL:P3D
REFRESH-INTERVAL:P3D
CALSCALE:GREGORIAN
BEGIN:VEVENT
DTSTART:20210303T213000Z
DTEND:20210303T233000Z
X-MICROSOFT-CDO-ALLDAYEVENT:FALSE
SUMMARY:Craft and Commerce sponsored by Southland Utility Services
DESCRIPTION:Mark your calendars for Craft and Commerce at the Walton Area Chamber!! Join us for a "rectangle table" style discussion with the Walton County Planning Department on the proposed impact fee that is associated with the mobility study. \n\n\n\nThe event is $10 for members and $15 for non-members.\n\nThank you to Southland Utility Services for sponsoring!
X-ALT-DESC;FMTTYPE=text/html:<span style="font-size:24px\;"><strong font-size:="" style="color: rgb(51\, 51\, 51)\; font-family: sans-serif\, Arial\, Verdana\, " trebuchet=""><span style="background-color: rgb(255\, 255\, 255)\;">Mark your calendars for Craft and Commerc</span></strong><strong font-size:="" style="color: rgb(51\, 51\, 51)\; font-family: sans-serif\, Arial\, Verdana\, " trebuchet=""><span style="background-color: rgb(255\, 255\, 255)\;">e at the Walton Area Chamber!! Join us for&nbsp\;a &quot\;rectangle table&quot\; style&nbsp\;discussion</span></strong><span style="font-family:calibri\,sans-serif\;">&nbsp\;<strong>with the Walton County Planning Department&nbsp\;</strong></span></span><span style="font-size:26px\;"><span style="font-family:calibri\,sans-serif\;"><strong>on the proposed impact fee that is associated with the mobility study.&nbsp\;</strong></span></span><br />\n<br />\n<span style="font-size:24px\;"><strong font-size:="" style="color: rgb(51\, 51\, 51)\; font-family: sans-serif\, Arial\, Verdana\, " trebuchet="">The event is $10 for members and $15 for non-members.</strong></span><br />\n<strong><span style="font-size:24px\;">Thank you to&nbsp\;</span><span style="color: rgba(0\, 0\, 0\, 0.87)\; font-family: &quot\;Google Sans&quot\;\, Roboto\, HelveticaNeue\, Arial\, sans-serif\; font-size: 24px\; background-color: rgb(255\, 255\, 255)\;">Southland Utility Services</span><span style="font-size:24px\;"> for sponsoring!</span></strong>
LOCATION:Walton Area Chamber of Commerce 63 South Centre Trail\, Santa Rosa Beach\, FL 32459
UID:e.885.29136
SEQUENCE:3
DTSTAMP:20260422T110913Z
URL:https://business.waltonareachamber.com/events/details/craft-and-commerce-sponsored-by-southland-utility-services-29136
END:VEVENT

END:VCALENDAR
