BEGIN:VCALENDAR
VERSION:2.0
PRODID:-//ChamberMaster//Event Calendar 2.0//EN
METHOD:PUBLISH
X-PUBLISHED-TTL:P3D
REFRESH-INTERVAL:P3D
CALSCALE:GREGORIAN
BEGIN:VEVENT
DTSTART:20211210T003000Z
DTEND:20211210T030000Z
X-MICROSOFT-CDO-ALLDAYEVENT:FALSE
SUMMARY:Cruisin' into Christmas
DESCRIPTION:Safe Connections is proud to invite you to join our host\, Emerald Coast Harley Davidson in supporting our 5th Annual Cruisin' into Christmas\, Festival of Trees. This fun evening will include a gourmet dinner\, musical entertainment and many silent and live auction opportunities to help raise much needed funding for Safe Connections.\n\nhttps://2021safeconnectionscruisinintochristmas.eventbrite.com\n\n\n\nWe want you to help us celebrate! We are looking for donations of Auction items\, Door Prizes and\, Christmas Tree Sponsorships. We are depending on your generosity of donated gifts in order to make this a successful fundraising event. We also welcome community businesses and organizations to donate their time and talent in support of this fun project.
X-ALT-DESC;FMTTYPE=text/html:Safe Connections is proud to invite you to join our host\, Emerald Coast Harley Davidson in supporting our 5th Annual Cruisin&rsquo\; into Christmas\, Festival of Trees. This fun evening will include a gourmet dinner\, musical entertainment and many silent and live auction opportunities to help raise much needed funding for Safe Connections.<br />\n<span style="font-family:arial\,sans-serif\; font-size:10pt"><a href="https://2021safeconnectionscruisinintochristmas.eventbrite.com">https://2021safeconnectionscruisinintochristmas.eventbrite.com</a></span><br />\n<br />\nWe want you to help us celebrate! We are looking for donations of Auction items\, Door Prizes and\, Christmas Tree Sponsorships. We are depending on your generosity of donated gifts in order to make this a successful fundraising event. We also welcome community businesses and organizations to donate their time and talent in support of this fun project.
LOCATION:Hosted at Emerald Coast Harley Davidson 788 Beal Parkway NW fort Walton beach\, FL 32547 https://2021safeconnectionscruisinintochristmas.eventbrite.com
UID:e.885.32425
SEQUENCE:3
DTSTAMP:20260423T063016Z
URL:https://business.waltonareachamber.com/events/details/cruisin-into-christmas-32425
END:VEVENT

END:VCALENDAR
