BEGIN:VCALENDAR
VERSION:2.0
PRODID:-//ChamberMaster//Event Calendar 2.0//EN
METHOD:PUBLISH
X-PUBLISHED-TTL:P3D
REFRESH-INTERVAL:P3D
CALSCALE:GREGORIAN
BEGIN:VEVENT
DTSTART:20220720T200000Z
DTEND:20220720T210000Z
X-MICROSOFT-CDO-ALLDAYEVENT:FALSE
SUMMARY:Cybersecurity Webinar for Small Business Owners
DESCRIPTION:The Florida Department of Economic Opportunity\, Florida Division of Emergency Management\, and Florida Digital Service will host a webinar to provide cybersecurity information and resources to Florida's small business community on Wednesday\, July 20\, 2022\, from 3:00-4:00 p.m. Eastern Time (ET). \n\nSpeakers from the Cybersecurity and Infrastructure Security Agency\, the Federal Bureau of Investigations\, and the Florida Small Business Development Center will provide an overview of how current geopolitical tensions affect cybersecurity issues\, what to do when businesses experience a cyber incident\, and where to find cybersecurity resources through state and federal partners.\n\nOpening Remarks\n\nDane Eagle\, Secretary\n\nFlorida Department of Economic Opportunity\n\nKevin Guthrie\, Director\n\nFlorida Division of Emergency Management\n\nJeremy Rodgers\, Chief Information Security Officer\n\nFlorida Digital Service\n\nShield's Up Website and Current Geopolitical Tension\n\nYolanda Williams\, Cybersecurity State Coordinator/Advisor\n\nCybersecurity and Infrastructure Security Agency (CISA)\n\nCyber Incident Reporting\n\nJoshua Chancey\, Community Outreach Specialist\n\nFederal Bureau of Investigations (FBI)\n\nCybersecurity Training for Small Businesses\n\nJane Dowgwillo\, Director Strategic Programs\n\nFlorida Small Business Development Center (SBDC)
X-ALT-DESC;FMTTYPE=text/html:<span style="font-family:arial\,sans-serif\;">The Florida Department of Economic Opportunity\, Florida Division of Emergency Management\, and Florida Digital Service will host a webinar to provide cybersecurity information and resources to Florida&#39\;s small business community on&nbsp\;<strong>Wednesday\, July 20\, 2022</strong>\, from 3:00-4:00 p.m. Eastern Time (ET).&nbsp\;</span><br />\n<span style="font-family:arial\,sans-serif\;">Speakers from the Cybersecurity and Infrastructure Security Agency\, the Federal Bureau of Investigations\, and the Florida Small Business Development Center will provide an overview of how current geopolitical tensions affect cybersecurity issues\, what to do when businesses experience a cyber incident\, and where to find cybersecurity resources through state and federal partners.</span><br />\n<u><span style="font-family:arial\,sans-serif\;">Opening Remarks</span></u><br />\n<strong><span style="font-family:arial\,sans-serif\;">Dane Eagle</span></strong><span style="font-family:arial\,sans-serif\;">\, Secretary</span><br />\n<em><span style="font-family:arial\,sans-serif\;">Florida Department of Economic Opportunity</span></em><br />\n<strong><span style="font-family:arial\,sans-serif\;">Kevin Guthrie</span></strong><span style="font-family:arial\,sans-serif\;">\, Director</span><br />\n<em><span style="font-family:arial\,sans-serif\;">Florida Division of Emergency Management</span></em><br />\n<strong><span style="font-family:arial\,sans-serif\;">Jeremy Rodgers</span></strong><span style="font-family:arial\,sans-serif\;">\, Chief Information Security Officer</span><br />\n<em><span style="font-family:arial\,sans-serif\;">Florida Digital Service</span></em><br />\n<u><span style="font-family:arial\,sans-serif\;">Shield&rsquo\;s Up Website and Current Geopolitical Tension</span></u><br />\n<strong><span style="font-family:arial\,sans-serif\;">Yolanda Williams</span></strong><span style="font-family:arial\,sans-serif\;">\, Cybersecurity State Coordinator/Advisor</span><br />\n<em><span style="font-family:arial\,sans-serif\;">Cybersecurity and Infrastructure Security Agency (CISA)</span></em><br />\n<u><span style="font-family:arial\,sans-serif\;">Cyber Incident Reporting</span></u><br />\n<strong><span style="font-family:arial\,sans-serif\;">Joshua Chancey</span></strong><span style="font-family:arial\,sans-serif\;">\, Community Outreach Specialist</span><br />\n<em><span style="font-family:arial\,sans-serif\;">Federal Bureau of Investigations (FBI)</span></em><br />\n<u><span style="font-family:arial\,sans-serif\;">Cybersecurity Training for Small Businesses</span></u><br />\n<strong><span style="font-family:arial\,sans-serif\;">Jane Dowgwillo</span></strong><span style="font-family:arial\,sans-serif\;">\, Director Strategic Programs</span><br />\n<em><span style="font-family:arial\,sans-serif\;">Florida Small Business Development Center (SBDC)</span></em>
LOCATION:
UID:e.885.33902
SEQUENCE:3
DTSTAMP:20260423T170357Z
URL:https://business.waltonareachamber.com/events/details/cybersecurity-webinar-for-small-business-owners-33902
END:VEVENT

END:VCALENDAR
