BEGIN:VCALENDAR
VERSION:2.0
PRODID:-//ChamberMaster//Event Calendar 2.0//EN
METHOD:PUBLISH
X-PUBLISHED-TTL:P3D
REFRESH-INTERVAL:P3D
CALSCALE:GREGORIAN
BEGIN:VEVENT
DTSTART:20211008T200000Z
DTEND:20211008T220000Z
X-MICROSOFT-CDO-ALLDAYEVENT:FALSE
SUMMARY:DeFuniak Springs Downtown Walking Tour Friday October 8th 3-5pm
DESCRIPTION:Join us for a walking tour of DeFuniak Springs\, led by Anthony Vallee\, AIA. The tour will include a number of the historic preservation and restoration projects that highlight the downtown revitalization mission.\n\n \n\nFriday\, October 8\n\n3 - 5 pm\n\nFree Tour - Please RSVP\n\n \n\nMeet at Perla Baking Co.\n\n766 Baldwin Ave.\n\nDeFuniak Springs\, Florida 32435\n\n \n\n \n\nCE pending approval\n\n \n\nRSVP
X-ALT-DESC;FMTTYPE=text/html:<p style="caret-color: rgb(0\, 0\, 0)\; color: rgb(0\, 0\, 0)\; text-align: center\;"><span style="font-size:14px\;"><span style="font-family: Arial\, sans-serif\; color: rgb(51\, 51\, 51)\;">Join us for a walking tour of DeFuniak Springs\, led by Anthony Vallee\, AIA. The tour will include a number of the historic preservation and restoration projects that highlight the downtown revitalization mission.</span></span></p>\n\n<p style="caret-color: rgb(0\, 0\, 0)\; color: rgb(0\, 0\, 0)\; text-align: center\;">&nbsp\;</p>\n\n<p style="caret-color: rgb(0\, 0\, 0)\; color: rgb(0\, 0\, 0)\; text-align: center\;"><span style="font-size: 13.5pt\; font-family: Arial\, sans-serif\; color: rgb(51\, 51\, 51)\;">Friday\, October 8<br />\n3 - 5 pm</span></p>\n\n<p style="caret-color: rgb(0\, 0\, 0)\; color: rgb(0\, 0\, 0)\; text-align: center\;"><span style="font-size: 13.5pt\; font-family: Arial\, sans-serif\; color: rgb(51\, 51\, 51)\;">Free Tour - Please RSVP</span></p>\n\n<p style="caret-color: rgb(0\, 0\, 0)\; color: rgb(0\, 0\, 0)\; text-align: center\;">&nbsp\;</p>\n\n<p style="caret-color: rgb(0\, 0\, 0)\; color: rgb(0\, 0\, 0)\; margin-bottom: 0px !important\; text-align: center\;"><span style="font-size: 13.5pt\; font-family: Arial\, sans-serif\; color: rgb(51\, 51\, 51)\;">Meet at Perla Baking Co.</span></p>\n\n<p style="caret-color: rgb(0\, 0\, 0)\; color: rgb(0\, 0\, 0)\; margin-top: 0px !important\; margin-bottom: 0px !important\; text-align: center\;"><span style="font-size: 13.5pt\; font-family: Arial\, sans-serif\;">766 Baldwin Ave.<br />\nDeFuniak Springs\, Florida 32435</span></p>\n\n<p style="caret-color: rgb(0\, 0\, 0)\; color: rgb(0\, 0\, 0)\; margin-top: 0px !important\; text-align: center\;">&nbsp\;</p>\n\n<p style="caret-color: rgb(0\, 0\, 0)\; color: rgb(0\, 0\, 0)\; text-align: center\;">&nbsp\;</p>\n\n<p style="caret-color: rgb(0\, 0\, 0)\; color: rgb(0\, 0\, 0)\; text-align: center\;"><em><span style="font-size: 13.5pt\; font-family: Arial\, sans-serif\;">CE pending approval</span></em></p>\n\n<p style="caret-color: rgb(0\, 0\, 0)\; color: rgb(0\, 0\, 0)\; margin-bottom: 12pt\; text-align: center\;">&nbsp\;</p>\n\n<p style="caret-color: rgb(0\, 0\, 0)\; color: rgb(0\, 0\, 0)\; text-align: center\;"><span style="font-size: 13.5pt\; font-family: Arial\, sans-serif\;"><a href="https://www.aianwfl.com/EmailTracker/LinkTracker.ashx?linkAndRecipientCode=vsJmYWGsgHEpJHVyQhQivL6OtD9TNVlCLo520Ws%2fF40YGmDkh5HLfZG6GVciUOQJvwUeM7ak92gVmuKecAzkSll%2beRZ64f6HUwuyA0yeCiI%3d" style="color: blue\;" target="_blank"><span style="font-size: 15pt\; color: white\; border: 1.5pt solid rgb(209\, 31\, 31)\; padding: 14pt\; background-color: rgb(209\, 31\, 31)\; text-decoration: none\;">RSVP</span></a></span></p>\n
LOCATION:Perla Baking Co. 766 Baldwin Ave. DeFuniak Springs\, Florida 32435
UID:e.885.32577
SEQUENCE:3
DTSTAMP:20260423T025331Z
URL:https://business.waltonareachamber.com/events/details/defuniak-springs-downtown-walking-tour-friday-october-8th-3-5pm-32577
END:VEVENT

END:VCALENDAR
