BEGIN:VCALENDAR
VERSION:2.0
PRODID:-//ChamberMaster//Event Calendar 2.0//EN
METHOD:PUBLISH
X-PUBLISHED-TTL:P3D
REFRESH-INTERVAL:P3D
CALSCALE:GREGORIAN
BEGIN:VEVENT
DTSTART:20210320T130000Z
DTEND:20210320T200000Z
X-MICROSOFT-CDO-ALLDAYEVENT:FALSE
SUMMARY:DeFuniak Springs Home and Garden Show
DESCRIPTION:The DeFuniak Springs Home & Garden Show is a local marketplace where you can shop for home-related products and services\, purchase unique decor and gifts from arts and crafts vendors\, get products from local hobby farms\, support small business owners\, view displays to help inspire your next home project\, connect with home improvement and real estate professionals\, and enjoy informative presentations from local home and garden experts.\n\nOur mission is to provide a fun\, entertaining event that not only helps businesses grow\, but is a great resource for our local community
X-ALT-DESC;FMTTYPE=text/html:<div class="kvgmc6g5 cxmmr5t8 oygrvhab hcukyx3x c1et5uql" style="overflow-wrap: break-word\; margin: 0px\; font-family: &quot\;Segoe UI Historic&quot\;\, &quot\;Segoe UI&quot\;\, Helvetica\, Arial\, sans-serif\; color: rgb(5\, 5\, 5)\; font-size: 15px\;"><span style="font-size:14px\;"><span style="font-family:arial\;">The DeFuniak Springs Home &amp\; Garden Show is a local marketplace where you can shop for home-related products and services\, purchase unique decor and gifts from arts and crafts vendors\, get products from local hobby farms\, support small business owners\, view displays to help inspire your next home project\, connect with home improvement and real estate professionals\, and enjoy informative presentations from local home and garden experts.</span></span></div>\n\n<div class="o9v6fnle cxmmr5t8 oygrvhab hcukyx3x c1et5uql" style="overflow-wrap: break-word\; margin: 0.5em 0px 0px\; font-family: &quot\;Segoe UI Historic&quot\;\, &quot\;Segoe UI&quot\;\, Helvetica\, Arial\, sans-serif\; color: rgb(5\, 5\, 5)\; font-size: 15px\;"><span style="font-size:14px\;"><span style="font-family:arial\;">Our mission is to provide a fun\, entertaining event that not only helps businesses grow\, but is a great resource for our local community</span></span></div>\n
LOCATION:Walton County Fair Association 790 N 9th St. DeFuniak Springs\, FL 32433
UID:e.885.29102
SEQUENCE:3
DTSTAMP:20260422T164255Z
URL:https://business.waltonareachamber.com/events/details/defuniak-springs-home-and-garden-show-29102
END:VEVENT

END:VCALENDAR
