BEGIN:VCALENDAR
VERSION:2.0
PRODID:-//ChamberMaster//Event Calendar 2.0//EN
METHOD:PUBLISH
X-PUBLISHED-TTL:P3D
REFRESH-INTERVAL:P3D
CALSCALE:GREGORIAN
BEGIN:VEVENT
DTSTART:20210620T010000Z
DTEND:20210620T040000Z
X-MICROSOFT-CDO-ALLDAYEVENT:FALSE
SUMMARY:Deja Vu Band at Old Florida Fish House
DESCRIPTION:Enjoy live music from The Deja Vu Band at the Old Florida Fish House!\n\n\n	Website: oldfloridafishhouse.com\n	Address: 33 Heron's Watch Way\, Santa Rosa Beach\, FL 32459\n	Phone: (850) 534-3045
X-ALT-DESC;FMTTYPE=text/html:<p style="font-size: 11pt\; color: rgb(0\, 0\, 0)\; font-family: Arial\, Helvetica\, sans-serif\; line-height: 22px\;"><span style="font-size:14px\;"><span style="font-family:arial\;"><span style="margin: 0px\; padding: 0px\; border: 0px\; font-style: inherit\; font-variant: inherit\; font-weight: inherit\; font-stretch: inherit\; line-height: 22px\; vertical-align: baseline\; color: inherit\;">Enjoy live music from The Deja Vu Band at the Old Florida Fish House!</span></span></span></p>\n\n<ul style="font-size: 11pt\; color: rgb(0\, 0\, 0)\; font-family: Arial\, Helvetica\, sans-serif\; line-height: 22px\;">\n	<li><span style="font-size:14px\;"><span style="font-family:arial\;"><span style="margin: 0px\; padding: 0px\; border: 0px\; font-style: inherit\; font-variant: inherit\; font-weight: inherit\; font-stretch: inherit\; line-height: 22px\; vertical-align: baseline\; color: inherit\;">Website:&nbsp\;<a data-auth="NotApplicable" data-linkindex="9" href="https://marketing.visitsouthwalton.com/acton/ct/42551/s-008f-2106/Bct/q-0014/l-0012:5fb/ct8_0/1/lu?sid=TV2%3AsSviszqWo" id="x_ct8_0" rel="noopener noreferrer" style="margin: 0px\; padding: 0px\; border: 0px\; font-style: inherit\; font-variant: inherit\; font-weight: inherit\; font-stretch: inherit\; font-size: inherit\; line-height: 22px\; font-family: inherit\; vertical-align: baseline\; color: rgb(40\, 128\, 187)\;" target="_blank">oldfloridafishhouse.com</a></span></span></span></li>\n	<li><span style="font-size:14px\;"><span style="font-family:arial\;"><span style="margin: 0px\; padding: 0px\; border: 0px\; font-style: inherit\; font-variant: inherit\; font-weight: inherit\; font-stretch: inherit\; line-height: 22px\; vertical-align: baseline\; color: inherit\;">Address: 33 Heron&rsquo\;s Watch Way\, Santa Rosa Beach\, FL 32459</span></span></span></li>\n	<li><span style="font-size:14px\;"><span style="font-family:arial\;"><span style="margin: 0px\; padding: 0px\; border: 0px\; font-style: inherit\; font-variant: inherit\; font-weight: inherit\; font-stretch: inherit\; line-height: 22px\; vertical-align: baseline\; color: inherit\;">Phone: (850) 534-3045</span></span></span></li>\n</ul>\n
LOCATION:
UID:e.885.32364
SEQUENCE:3
DTSTAMP:20260422T200524Z
URL:https://business.waltonareachamber.com/events/details/deja-vu-band-at-old-florida-fish-house-32364
END:VEVENT

END:VCALENDAR
