BEGIN:VCALENDAR
VERSION:2.0
PRODID:-//ChamberMaster//Event Calendar 2.0//EN
METHOD:PUBLISH
X-PUBLISHED-TTL:P3D
REFRESH-INTERVAL:P3D
CALSCALE:GREGORIAN
BEGIN:VEVENT
DTSTART:20210501T160000Z
DTEND:20210502T020000Z
X-MICROSOFT-CDO-ALLDAYEVENT:FALSE
SUMMARY:Derby Party at North Beach Social
DESCRIPTION:Dust off your bowties and big hats\, because the Kentucky Derby is right around the corner and North Beach Social is the place to watch. Relax at the water's edge\, as you sip mint juleps and devour hot brown sandwiches. Will and Linda Pleasants will be playing from 12-3PM that day and the race is at 5:50PM sharp. And they're off!
X-ALT-DESC;FMTTYPE=text/html:<span style="font-size:14px\;"><span style="font-family:arial\;"><span style="color: rgb(5\, 5\, 5)\;">Dust off your bowties and big hats\, because the Kentucky Derby is right around the corner and North Beach Social is the place to watch. Relax at the water&#39\;s edge\, as you sip mint juleps and devour hot brown sandwiches. Will and Linda Pleasants will be playing from 12-3PM that day and the race is at 5:50PM sharp. And they&#39\;re off!</span></span></span>
LOCATION:North Beach Social
UID:e.885.30294
SEQUENCE:3
DTSTAMP:20260422T142619Z
URL:https://business.waltonareachamber.com/events/details/derby-party-at-north-beach-social-30294
END:VEVENT

END:VCALENDAR
