BEGIN:VCALENDAR
VERSION:2.0
PRODID:-//ChamberMaster//Event Calendar 2.0//EN
METHOD:PUBLISH
X-PUBLISHED-TTL:P3D
REFRESH-INTERVAL:P3D
CALSCALE:GREGORIAN
BEGIN:VEVENT
DTSTART:20210513T010000Z
DTEND:20210516T042000Z
X-MICROSOFT-CDO-ALLDAYEVENT:FALSE
SUMMARY:Digital Graffiti 2021: A Drive-Thru Experience
DESCRIPTION:WHAT:               Digital Graffiti at Alys Beach\, presented by The Alys Foundation\, will be held as "A Drive-Thru Experience" for 2021. Tickets for the event are on sale now.\n\nWHEN:               May 12-15\, 2021\; the May 15 event date is reserved for Alys Beach homeowners and festival sponsors\n\nWHERE:             Digital Graffiti\n\n                             9581 E County Hwy 30A\n\nAlys Beach\, FL 32461\n\nPARTICIPATING ARTISTS:\n\nTatsuru Arai\, Zlatko Cosic\, Ryan O'Hare\, Jean-Michel Rolland\, Roberto Palma (Photonic Light Studio)\, Katina Bitsicas\, Karen Brummund\, Carlos E. Vargas\, Nastja Nykaza\, IRRita\, Eddie Lohmeyer\, Jonathan McCabe\, Joseph Forde\, Jonah Allen\, Carl Van Brunt\, Manuel Palenque\, Joshua Davis\, Kyriakos Charalampides\, Charlie Sutcliffe AKA Spookernox\, Hunter Scully\, Oli Turnpenney\, Robert Krawczyk\, Ian Gouldstone\, Robert Seidel\, Katerina Athanasopoulou\, Sean Van Praag
X-ALT-DESC;FMTTYPE=text/html:<p class="x_BodyA" style="margin: 0in 0in 6pt 1in\; font-size: 14pt\; font-family: &quot\;Times New Roman&quot\;\, serif\; color: black\; text-align: justify\; text-indent: -1in\;"><span style="font-size:14px\;"><span style="font-family:arial\;"><span class="x_None" style="margin: 0px\; padding: 0px\; border: 0px\; font-style: inherit\; font-variant: inherit\; font-weight: inherit\; font-stretch: inherit\; line-height: inherit\; vertical-align: baseline\; color: inherit\;"><span style="margin: 0px\; padding: 0px\; border: 0px\; font-style: inherit\; font-variant: inherit\; font-weight: inherit\; font-stretch: inherit\; line-height: inherit\; vertical-align: baseline\; color: inherit\;">WHAT:</span></span><span class="x_None" style="margin: 0px\; padding: 0px\; border: 0px\; font-style: inherit\; font-variant: inherit\; font-weight: inherit\; font-stretch: inherit\; line-height: inherit\; vertical-align: baseline\; color: inherit\;"><span style="margin: 0px\; padding: 0px\; border: 0px\; font-style: inherit\; font-variant: inherit\; font-weight: inherit\; font-stretch: inherit\; line-height: inherit\; vertical-align: baseline\; color: inherit\;">&nbsp\;&nbsp\;&nbsp\;&nbsp\;&nbsp\;&nbsp\;&nbsp\;&nbsp\;&nbsp\;&nbsp\;&nbsp\;&nbsp\;&nbsp\;&nbsp\;&nbsp\;</span></span><span style="margin: 0px\; padding: 0px\; border: 0px\; font-style: inherit\; font-variant: inherit\; font-weight: inherit\; font-stretch: inherit\; line-height: inherit\; vertical-align: baseline\; color: inherit\;"><a data-auth="NotApplicable" data-linkindex="6" href="http://www.digitalgraffiti.com/" rel="noopener noreferrer" style="margin: 0px\; padding: 0px\; border: 0px\; font: inherit\; vertical-align: baseline\; color: rgb(5\, 99\, 193)\;" target="_blank">Digital Graffiti</a>&nbsp\;at&nbsp\;<a data-auth="NotApplicable" data-linkindex="7" href="http://alysbeach.com/" rel="noopener noreferrer" style="margin: 0px\; padding: 0px\; border: 0px\; font: inherit\; vertical-align: baseline\; color: rgb(5\, 99\, 193)\;" target="_blank">Alys Beach</a>\, presented by&nbsp\;<a data-auth="NotApplicable" data-linkindex="8" href="http://www.thealysfoundation.com/" rel="noopener noreferrer" style="margin: 0px\; padding: 0px\; border: 0px\; font: inherit\; vertical-align: baseline\; color: rgb(5\, 99\, 193)\;" target="_blank">The Alys Foundation</a>\,&nbsp\;<span class="x_None" style="margin: 0px\; padding: 0px\; border: 0px\; font-style: inherit\; font-variant: inherit\; font-weight: inherit\; font-stretch: inherit\; line-height: inherit\; vertical-align: baseline\; color: inherit\;">will be held as &ldquo\;A Drive-Thru Experience&rdquo\; for 2021.&nbsp\;</span><a data-auth="NotApplicable" data-linkindex="9" href="https://www.bigtickets.com/events/g/digital-graffiti-drive-thru-at-alys-beach/" rel="noopener noreferrer" style="margin: 0px\; padding: 0px\; border: 0px\; font: inherit\; vertical-align: baseline\; color: rgb(5\, 99\, 193)\;" target="_blank">Tickets for the event</a><span class="x_None" style="margin: 0px\; padding: 0px\; border: 0px\; font-style: inherit\; font-variant: inherit\; font-weight: inherit\; font-stretch: inherit\; line-height: inherit\; vertical-align: baseline\; color: inherit\;">&nbsp\;are on sale now.</span></span></span></span></p>\n\n<p class="x_BodyA" style="margin: 0in 0in 6pt 1in\; font-size: 14pt\; font-family: &quot\;Times New Roman&quot\;\, serif\; color: black\; text-indent: -1in\;"><span style="font-size:14px\;"><span style="font-family:arial\;"><span class="x_None" style="margin: 0px\; padding: 0px\; border: 0px\; font-style: inherit\; font-variant: inherit\; font-weight: inherit\; font-stretch: inherit\; line-height: inherit\; vertical-align: baseline\; color: inherit\;"><span style="margin: 0px\; padding: 0px\; border: 0px\; font-style: inherit\; font-variant: inherit\; font-weight: inherit\; font-stretch: inherit\; line-height: inherit\; vertical-align: baseline\; color: inherit\;">WHEN:&nbsp\;&nbsp\;&nbsp\;&nbsp\;&nbsp\;&nbsp\;&nbsp\;&nbsp\;&nbsp\;&nbsp\;&nbsp\;&nbsp\;&nbsp\;&nbsp\;&nbsp\;</span></span><span class="x_None" style="margin: 0px\; padding: 0px\; border: 0px\; font-style: inherit\; font-variant: inherit\; font-weight: inherit\; font-stretch: inherit\; line-height: inherit\; vertical-align: baseline\; color: inherit\;"><span lang="FR" style="margin: 0px\; padding: 0px\; border: 0px\; font-style: inherit\; font-variant: inherit\; font-weight: inherit\; font-stretch: inherit\; line-height: inherit\; vertical-align: baseline\; color: inherit\;">May 12-15\, 2021\; the May 15&nbsp\;</span></span><span class="x_None" style="margin: 0px\; padding: 0px\; border: 0px\; font-style: inherit\; font-variant: inherit\; font-weight: inherit\; font-stretch: inherit\; line-height: inherit\; vertical-align: baseline\; color: inherit\;"><span style="margin: 0px\; padding: 0px\; border: 0px\; font-style: inherit\; font-variant: inherit\; font-weight: inherit\; font-stretch: inherit\; line-height: inherit\; vertical-align: baseline\; color: inherit\;">event</span></span><span class="x_None" style="margin: 0px\; padding: 0px\; border: 0px\; font-style: inherit\; font-variant: inherit\; font-weight: inherit\; font-stretch: inherit\; line-height: inherit\; vertical-align: baseline\; color: inherit\;"><span lang="FR" style="margin: 0px\; padding: 0px\; border: 0px\; font-style: inherit\; font-variant: inherit\; font-weight: inherit\; font-stretch: inherit\; line-height: inherit\; vertical-align: baseline\; color: inherit\;">&nbsp\;date is&nbsp\;</span></span><span class="x_None" style="margin: 0px\; padding: 0px\; border: 0px\; font-style: inherit\; font-variant: inherit\; font-weight: inherit\; font-stretch: inherit\; line-height: inherit\; vertical-align: baseline\; color: inherit\;"><span style="margin: 0px\; padding: 0px\; border: 0px\; font-style: inherit\; font-variant: inherit\; font-weight: inherit\; font-stretch: inherit\; line-height: inherit\; vertical-align: baseline\; color: inherit\;">reserved</span></span><span class="x_None" style="margin: 0px\; padding: 0px\; border: 0px\; font-style: inherit\; font-variant: inherit\; font-weight: inherit\; font-stretch: inherit\; line-height: inherit\; vertical-align: baseline\; color: inherit\;"><span lang="FR" style="margin: 0px\; padding: 0px\; border: 0px\; font-style: inherit\; font-variant: inherit\; font-weight: inherit\; font-stretch: inherit\; line-height: inherit\; vertical-align: baseline\; color: inherit\;">&nbsp\;for Alys Beach homeowners and festival sponsors</span></span></span></span></p>\n\n<p class="x_BodyA" style="margin: 0in 0in 0in 1in\; font-size: 14pt\; font-family: &quot\;Times New Roman&quot\;\, serif\; color: black\; text-align: justify\; text-indent: -1in\;"><span style="font-size:14px\;"><span style="font-family:arial\;"><span class="x_None" style="margin: 0px\; padding: 0px\; border: 0px\; font-style: inherit\; font-variant: inherit\; font-weight: inherit\; font-stretch: inherit\; line-height: inherit\; vertical-align: baseline\; color: inherit\;"><span style="margin: 0px\; padding: 0px\; border: 0px\; font-style: inherit\; font-variant: inherit\; font-weight: inherit\; font-stretch: inherit\; line-height: inherit\; vertical-align: baseline\; color: inherit\;">WHERE:&nbsp\;&nbsp\;&nbsp\;&nbsp\;&nbsp\;&nbsp\;&nbsp\;&nbsp\;&nbsp\;&nbsp\;&nbsp\;&nbsp\; Digital Graffiti</span></span></span></span></p>\n\n<p class="x_BodyA" style="margin: 0in 0in 6pt 1in\; font-size: 14pt\; font-family: &quot\;Times New Roman&quot\;\, serif\; color: black\; text-indent: -1in\;"><span style="font-size:14px\;"><span style="font-family:arial\;"><span class="x_None" style="margin: 0px\; padding: 0px\; border: 0px\; font-style: inherit\; font-variant: inherit\; font-weight: inherit\; font-stretch: inherit\; line-height: inherit\; vertical-align: baseline\; color: inherit\;"><span style="margin: 0px\; padding: 0px\; border: 0px\; font-style: inherit\; font-variant: inherit\; font-weight: inherit\; font-stretch: inherit\; line-height: inherit\; vertical-align: baseline\; color: inherit\;">&nbsp\;&nbsp\;&nbsp\;&nbsp\;&nbsp\;&nbsp\;&nbsp\;&nbsp\;&nbsp\;&nbsp\;&nbsp\;&nbsp\;&nbsp\;&nbsp\;&nbsp\;&nbsp\;&nbsp\;&nbsp\;&nbsp\;&nbsp\;&nbsp\;&nbsp\;&nbsp\;&nbsp\;&nbsp\;&nbsp\;&nbsp\;&nbsp\; 9581 E County Hwy 30A<br />\nAlys Beach\, FL 32461</span></span></span></span></p>\n\n<p class="x_NoSpacing1" style="margin: 0in 0in 6pt 1in\; font-size: 11pt\; font-family: Calibri\, sans-serif\; color: rgb(32\, 31\, 30)\; text-align: justify\; text-indent: -1in\;"><span style="font-size:14px\;"><span style="font-family:arial\;"><span class="x_None" style="margin: 0px\; padding: 0px\; border: 0px\; font-style: inherit\; font-variant: inherit\; font-weight: inherit\; font-stretch: inherit\; line-height: inherit\; vertical-align: baseline\; color: inherit\;"><span style="margin: 0px\; padding: 0px\; border: 0px\; font-style: inherit\; font-variant: inherit\; font-weight: inherit\; font-stretch: inherit\; line-height: inherit\; vertical-align: baseline\; color: inherit\;">PARTICIPATING ARTISTS:</span></span></span></span></p>\n\n<p class="x_MsoNormal" style="margin: 0in 0in 6pt 1in\; font-size: 11pt\; font-family: Calibri\, sans-serif\; color: rgb(32\, 31\, 30)\;"><span style="font-size:14px\;"><span style="font-family:arial\;"><span style="margin: 0px\; padding: 0px\; border: 0px\; font-style: inherit\; font-variant: inherit\; font-weight: inherit\; font-stretch: inherit\; line-height: inherit\; vertical-align: baseline\; color: inherit\;"><a data-auth="NotApplicable" data-linkindex="10" href="https://www.tatsuruarai.com/" rel="noopener noreferrer" style="margin: 0px\; padding: 0px\; border: 0px\; font: inherit\; vertical-align: baseline\; color: rgb(5\, 99\, 193)\;" target="_blank"><span style="margin: 0px\; padding: 0px\; border: 0px\; font-style: inherit\; font-variant: inherit\; font-weight: inherit\; font-stretch: inherit\; line-height: inherit\; vertical-align: baseline\; color: black\;">Tatsuru Arai</span></a>\,&nbsp\;<a data-auth="NotApplicable" data-linkindex="11" href="http://www.zlatkocosic.com/" rel="noopener noreferrer" style="margin: 0px\; padding: 0px\; border: 0px\; font: inherit\; vertical-align: baseline\; color: rgb(5\, 99\, 193)\;" target="_blank"><span style="margin: 0px\; padding: 0px\; border: 0px\; font-style: inherit\; font-variant: inherit\; font-weight: inherit\; font-stretch: inherit\; line-height: inherit\; vertical-align: baseline\; color: black\;">Zlatko Cosic</span></a>\,&nbsp\;<a data-auth="NotApplicable" data-linkindex="12" href="http://www.ryanrileyohare.com/ephemera" rel="noopener noreferrer" style="margin: 0px\; padding: 0px\; border: 0px\; font: inherit\; vertical-align: baseline\; color: rgb(5\, 99\, 193)\;" target="_blank"><span style="margin: 0px\; padding: 0px\; border: 0px\; font-style: inherit\; font-variant: inherit\; font-weight: inherit\; font-stretch: inherit\; line-height: inherit\; vertical-align: baseline\; color: black\;">Ryan O&#39\;Hare</span></a>\,&nbsp\;<a data-auth="NotApplicable" data-linkindex="13" href="http://franetjim.free.fr/documents/videography.pdf" rel="noopener noreferrer" style="margin: 0px\; padding: 0px\; border: 0px\; font: inherit\; vertical-align: baseline\; color: rgb(5\, 99\, 193)\;" target="_blank"><span style="margin: 0px\; padding: 0px\; border: 0px\; font-style: inherit\; font-variant: inherit\; font-weight: inherit\; font-stretch: inherit\; line-height: inherit\; vertical-align: baseline\; color: black\;">Jean-Michel Rolland</span></a>\,&nbsp\;<a data-auth="NotApplicable" data-linkindex="14" href="https://www.youtube.com/watch?v=TSx-Av-d4mM&amp\;t=" rel="noopener noreferrer" style="margin: 0px\; padding: 0px\; border: 0px\; font: inherit\; vertical-align: baseline\; color: rgb(5\, 99\, 193)\;" target="_blank"><span style="margin: 0px\; padding: 0px\; border: 0px\; font-style: inherit\; font-variant: inherit\; font-weight: inherit\; font-stretch: inherit\; line-height: inherit\; vertical-align: baseline\; color: black\;">Roberto Palma (Photonic Light Studio)</span></a>\,&nbsp\;<a data-auth="NotApplicable" data-linkindex="15" href="http://www.katinabitsicas.com/" rel="noopener noreferrer" style="margin: 0px\; padding: 0px\; border: 0px\; font: inherit\; vertical-align: baseline\; color: rgb(5\, 99\, 193)\;" target="_blank"><span style="margin: 0px\; padding: 0px\; border: 0px\; font-style: inherit\; font-variant: inherit\; font-weight: inherit\; font-stretch: inherit\; line-height: inherit\; vertical-align: baseline\; color: black\;">Katina Bitsicas</span></a>\,&nbsp\;<a data-auth="NotApplicable" data-linkindex="16" href="http://karenbrummund.com/" rel="noopener noreferrer" style="margin: 0px\; padding: 0px\; border: 0px\; font: inherit\; vertical-align: baseline\; color: rgb(5\, 99\, 193)\;" target="_blank"><span style="margin: 0px\; padding: 0px\; border: 0px\; font-style: inherit\; font-variant: inherit\; font-weight: inherit\; font-stretch: inherit\; line-height: inherit\; vertical-align: baseline\; color: black\;">Karen Brummund</span></a>\,&nbsp\;<a data-auth="NotApplicable" data-linkindex="17" href="https://www.carlosvargas.me/" rel="noopener noreferrer" style="margin: 0px\; padding: 0px\; border: 0px\; font: inherit\; vertical-align: baseline\; color: rgb(5\, 99\, 193)\;" target="_blank"><span style="margin: 0px\; padding: 0px\; border: 0px\; font-style: inherit\; font-variant: inherit\; font-weight: inherit\; font-stretch: inherit\; line-height: inherit\; vertical-align: baseline\; color: black\;">Carlos E. Vargas</span></a>\,&nbsp\;<a data-auth="NotApplicable" data-linkindex="18" href="https://superwormy.wixsite.com/nastja" rel="noopener noreferrer" style="margin: 0px\; padding: 0px\; border: 0px\; font: inherit\; vertical-align: baseline\; color: rgb(5\, 99\, 193)\;" target="_blank"><span style="margin: 0px\; padding: 0px\; border: 0px\; font-style: inherit\; font-variant: inherit\; font-weight: inherit\; font-stretch: inherit\; line-height: inherit\; vertical-align: baseline\; color: black\;">Nastja Nykaza</span></a>\,&nbsp\;<a data-auth="NotApplicable" data-linkindex="19" href="https://vimeo.com/showcase/8173358" rel="noopener noreferrer" style="margin: 0px\; padding: 0px\; border: 0px\; font: inherit\; vertical-align: baseline\; color: rgb(5\, 99\, 193)\;" target="_blank"><span style="margin: 0px\; padding: 0px\; border: 0px\; font-style: inherit\; font-variant: inherit\; font-weight: inherit\; font-stretch: inherit\; line-height: inherit\; vertical-align: baseline\; color: black\;">IRRita</span></a>\,&nbsp\;<a data-auth="NotApplicable" data-linkindex="20" href="https://www.eddielohmeyer.com/" rel="noopener noreferrer" style="margin: 0px\; padding: 0px\; border: 0px\; font: inherit\; vertical-align: baseline\; color: rgb(5\, 99\, 193)\;" target="_blank"><span style="margin: 0px\; padding: 0px\; border: 0px\; font-style: inherit\; font-variant: inherit\; font-weight: inherit\; font-stretch: inherit\; line-height: inherit\; vertical-align: baseline\; color: black\;">Eddie Lohmeyer</span></a>\,&nbsp\;<a data-auth="NotApplicable" data-linkindex="21" href="https://vimeo.com/jonathanmccabe" rel="noopener noreferrer" style="margin: 0px\; padding: 0px\; border: 0px\; font: inherit\; vertical-align: baseline\; color: rgb(5\, 99\, 193)\;" target="_blank"><span style="margin: 0px\; padding: 0px\; border: 0px\; font-style: inherit\; font-variant: inherit\; font-weight: inherit\; font-stretch: inherit\; line-height: inherit\; vertical-align: baseline\; color: black\;">Jonathan McCabe</span></a>\,&nbsp\;<a data-auth="NotApplicable" data-linkindex="22" href="https://glowgraphic.art/home" rel="noopener noreferrer" style="margin: 0px\; padding: 0px\; border: 0px\; font: inherit\; vertical-align: baseline\; color: rgb(5\, 99\, 193)\;" target="_blank"><span style="margin: 0px\; padding: 0px\; border: 0px\; font-style: inherit\; font-variant: inherit\; font-weight: inherit\; font-stretch: inherit\; line-height: inherit\; vertical-align: baseline\; color: black\;">Joseph Forde</span></a>\,&nbsp\;<a data-auth="NotApplicable" data-linkindex="23" href="https://www.jonahallen.com/" rel="noopener noreferrer" style="margin: 0px\; padding: 0px\; border: 0px\; font: inherit\; vertical-align: baseline\; color: rgb(5\, 99\, 193)\;" target="_blank"><span style="margin: 0px\; padding: 0px\; border: 0px\; font-style: inherit\; font-variant: inherit\; font-weight: inherit\; font-stretch: inherit\; line-height: inherit\; vertical-align: baseline\; color: black\;">Jonah Allen</span></a>\,&nbsp\;<a data-auth="NotApplicable" data-linkindex="24" href="https://vimeo.com/user100906411" rel="noopener noreferrer" style="margin: 0px\; padding: 0px\; border: 0px\; font: inherit\; vertical-align: baseline\; color: rgb(5\, 99\, 193)\;" target="_blank"><span style="margin: 0px\; padding: 0px\; border: 0px\; font-style: inherit\; font-variant: inherit\; font-weight: inherit\; font-stretch: inherit\; line-height: inherit\; vertical-align: baseline\; color: black\;">Carl Van Brunt</span></a>\,&nbsp\;<a data-auth="NotApplicable" data-linkindex="25" href="https://www.instagram.com/mpalenque/?hl=en" rel="noopener noreferrer" style="margin: 0px\; padding: 0px\; border: 0px\; font: inherit\; vertical-align: baseline\; color: rgb(5\, 99\, 193)\;" target="_blank"><span style="margin: 0px\; padding: 0px\; border: 0px\; font-style: inherit\; font-variant: inherit\; font-weight: inherit\; font-stretch: inherit\; line-height: inherit\; vertical-align: baseline\; color: black\;">Manuel Palenque</span></a>\,&nbsp\;<a data-auth="NotApplicable" data-linkindex="26" href="https://en.wikipedia.org/wiki/Joshua_Davis_(designer)" rel="noopener noreferrer" style="margin: 0px\; padding: 0px\; border: 0px\; font: inherit\; vertical-align: baseline\; color: rgb(5\, 99\, 193)\;" target="_blank"><span style="margin: 0px\; padding: 0px\; border: 0px\; font-style: inherit\; font-variant: inherit\; font-weight: inherit\; font-stretch: inherit\; line-height: inherit\; vertical-align: baseline\; color: black\;">Joshua Davis</span></a>\,&nbsp\;<a data-auth="NotApplicable" data-linkindex="27" href="https://soundbetter.com/profiles/237211-kyriakos-charalampides" rel="noopener noreferrer" style="margin: 0px\; padding: 0px\; border: 0px\; font: inherit\; vertical-align: baseline\; color: rgb(5\, 99\, 193)\;" target="_blank"><span style="margin: 0px\; padding: 0px\; border: 0px\; font-style: inherit\; font-variant: inherit\; font-weight: inherit\; font-stretch: inherit\; line-height: inherit\; vertical-align: baseline\; color: black\;">Kyriakos Charalampides</span></a>\,&nbsp\;<a data-auth="NotApplicable" data-linkindex="28" href="http://www.charliesutcliffe.com/" rel="noopener noreferrer" style="margin: 0px\; padding: 0px\; border: 0px\; font: inherit\; vertical-align: baseline\; color: rgb(5\, 99\, 193)\;" target="_blank"><span style="margin: 0px\; padding: 0px\; border: 0px\; font-style: inherit\; font-variant: inherit\; font-weight: inherit\; font-stretch: inherit\; line-height: inherit\; vertical-align: baseline\; color: black\;">Charlie Sutcliffe AKA Spookernox</span></a>\,&nbsp\;<a data-auth="NotApplicable" data-linkindex="29" href="https://vimeo.com/hscully" rel="noopener noreferrer" style="margin: 0px\; padding: 0px\; border: 0px\; font: inherit\; vertical-align: baseline\; color: rgb(5\, 99\, 193)\;" target="_blank"><span style="margin: 0px\; padding: 0px\; border: 0px\; font-style: inherit\; font-variant: inherit\; font-weight: inherit\; font-stretch: inherit\; line-height: inherit\; vertical-align: baseline\; color: black\;">Hunter Scully</span></a>\,&nbsp\;<a data-auth="NotApplicable" data-linkindex="30" href="https://uk.linkedin.com/in/oli-turnpenney-4a68bb85" rel="noopener noreferrer" style="margin: 0px\; padding: 0px\; border: 0px\; font: inherit\; vertical-align: baseline\; color: rgb(5\, 99\, 193)\;" target="_blank"><span style="margin: 0px\; padding: 0px\; border: 0px\; font-style: inherit\; font-variant: inherit\; font-weight: inherit\; font-stretch: inherit\; line-height: inherit\; vertical-align: baseline\; color: black\;">Oli Turnpenney</span></a>\, Robert Krawczyk\,&nbsp\;<a data-auth="NotApplicable" data-linkindex="31" href="https://iangouldstone.com/" rel="noopener noreferrer" style="margin: 0px\; padding: 0px\; border: 0px\; font: inherit\; vertical-align: baseline\; color: rgb(5\, 99\, 193)\;" target="_blank"><span style="margin: 0px\; padding: 0px\; border: 0px\; font-style: inherit\; font-variant: inherit\; font-weight: inherit\; font-stretch: inherit\; line-height: inherit\; vertical-align: baseline\; color: black\;">Ian Gouldstone</span></a>\,&nbsp\;<a data-auth="NotApplicable" data-linkindex="32" href="https://robertseidel.com/" rel="noopener noreferrer" style="margin: 0px\; padding: 0px\; border: 0px\; font: inherit\; vertical-align: baseline\; color: rgb(5\, 99\, 193)\;" target="_blank"><span style="margin: 0px\; padding: 0px\; border: 0px\; font-style: inherit\; font-variant: inherit\; font-weight: inherit\; font-stretch: inherit\; line-height: inherit\; vertical-align: baseline\; color: black\;">Robert Seidel</span></a>\,&nbsp\;<a data-auth="NotApplicable" data-linkindex="33" href="https://vimeo.com/katerinath" rel="noopener noreferrer" style="margin: 0px\; padding: 0px\; border: 0px\; font: inherit\; vertical-align: baseline\; color: rgb(5\, 99\, 193)\;" target="_blank"><span style="margin: 0px\; padding: 0px\; border: 0px\; font-style: inherit\; font-variant: inherit\; font-weight: inherit\; font-stretch: inherit\; line-height: inherit\; vertical-align: baseline\; color: black\;">Katerina Athanasopoulou</span></a>\,&nbsp\;<a data-auth="NotApplicable" data-linkindex="34" href="https://seanvanpraag.com/" rel="noopener noreferrer" style="margin: 0px\; padding: 0px\; border: 0px\; font: inherit\; vertical-align: baseline\; color: rgb(5\, 99\, 193)\;" target="_blank"><span style="margin: 0px\; padding: 0px\; border: 0px\; font-style: inherit\; font-variant: inherit\; font-weight: inherit\; font-stretch: inherit\; line-height: inherit\; vertical-align: baseline\; color: black\;">Sean Van Praag</span></a></span></span></span></p>\n
LOCATION:
UID:e.885.31100
SEQUENCE:3
DTSTAMP:20260422T142430Z
URL:https://business.waltonareachamber.com/events/details/digital-graffiti-2021-a-drive-thru-experience-31100
END:VEVENT

END:VCALENDAR
