BEGIN:VCALENDAR
VERSION:2.0
PRODID:-//ChamberMaster//Event Calendar 2.0//EN
METHOD:PUBLISH
X-PUBLISHED-TTL:P3D
REFRESH-INTERVAL:P3D
CALSCALE:GREGORIAN
BEGIN:VEVENT
DTSTART:20210429T230000Z
DTEND:20210429T234500Z
X-MICROSOFT-CDO-ALLDAYEVENT:FALSE
SUMMARY:Discover the Impact\, A Virtual Event by The Sonder Project
DESCRIPTION:Join The Sonder Project for a special event hosted by CEO Chad Zibelman to celebrate the impact of The Sonder Project's global work over the past six years and discover what comes next! \n\n\n	Hear stories of those impacted by their work \n	Experience a performance by a West African Ngoni musician\n	Enter for your chance to win a 3-night stay for two to Rosemary Beach with 360 Blue\, a YOLO inflatable paddleboard\, or a homemade wooden table set\n\n\n \n\nAll registered attendees will receive one free entry into the night's drawing.  You may also donate for additional entries by visiting their event GiveAway page at https://thesonderproject.org/giveaway.   See drawing details on our GiveAway page.  \n\n \n\nThis is a family-friendly event and will not require screen sharing\, so please come prepared to sit back\, relax\, and enjoy the show!
X-ALT-DESC;FMTTYPE=text/html:<h2 class="frs-header frs-header_title ng-binding ng-scope" data-ng-bind-html="block.headline | scTrustedHtml" data-ng-style="{color:block.headlineColor}" ng-if="!editable &amp\;&amp\; !block.hideHeadline" style="margin: 0px\; padding: 0px\; box-sizing: inherit\; -webkit-font-smoothing: antialiased\; text-align: center\; color: rgb(255\, 255\, 255)\; font-size: 36px\; line-height: 48px\; font-weight: 600\; font-family: mulish\, Arial\, Helvetica\, sans-serif\;">&nbsp\;</h2>\n\n<div class="frs-content ng-isolate-scope" data-parent-container="'.about_content'" data-sc-filler-text="contentOptions" data-title-container="'.about_content'" style="margin: 0px auto\; padding: 0px\; box-sizing: inherit\; -webkit-font-smoothing: antialiased\; text-align: center\; color: rgb(255\, 255\, 255)\; max-width: 800px\; line-height: 1.4\; font-family: mulish\, Arial\, Helvetica\, sans-serif\; font-size: 16px\;">\n<div class="about_content ng-binding ng-scope" data-ng-if="!editable" ng-bind-html="block.content | scImgAssetRef | userLinks | scTrustedHtml " sc-responsive-video="" style="margin: 0px\; padding: 0px\; box-sizing: inherit\; -webkit-font-smoothing: antialiased\; word-break: break-word\;">\n<p style="margin: 0px\; padding: 0px\; box-sizing: inherit\; -webkit-font-smoothing: antialiased\; font-size: 22px\;">&nbsp\;</p>\n\n<p style="margin: 0px\; padding: 0px\; box-sizing: inherit\; -webkit-font-smoothing: antialiased\; font-size: 22px\;"><span style="font-size:14px\;"><span style="font-family:arial\;"><span style="color:#000080\;"><span style="margin: 0px\; padding: 0px\; box-sizing: inherit\; -webkit-font-smoothing: antialiased\; text-decoration: inherit\;">Join The Sonder Project for a special event hosted by CEO Chad Zibelman to celebrate the impact of The Sonder Project&#39\;s global work over the past six years and discover what comes next!&nbsp\;</span></span></span></span></p>\n\n<ul style="margin: 30px auto 0px\; padding: 25px\; box-sizing: inherit\; -webkit-font-smoothing: antialiased\; list-style-position: outside\; list-style-image: initial\; text-align: left\; background-color: rgba(255\, 255\, 255\, 0.1)\; font-size: 22px\;">\n	<li style="margin: 0px 0px 10px 25px\; padding: 0px 0px 0px 10px\; box-sizing: inherit\; -webkit-font-smoothing: antialiased\;"><span style="font-size:14px\;"><span style="font-family:arial\;"><span style="color:#000080\;"><span style="margin: 0px\; padding: 0px\; box-sizing: inherit\; -webkit-font-smoothing: antialiased\; text-decoration: inherit\;">Hear stories of those impacted by their&nbsp\;work&nbsp\;</span></span></span></span></li>\n	<li style="margin: 0px 0px 10px 25px\; padding: 0px 0px 0px 10px\; box-sizing: inherit\; -webkit-font-smoothing: antialiased\;"><span style="font-size:14px\;"><span style="font-family:arial\;"><span style="color:#000080\;"><span style="margin: 0px\; padding: 0px\; box-sizing: inherit\; -webkit-font-smoothing: antialiased\; text-decoration: inherit\;">Experience a performance by a West African Ngoni musician</span></span></span></span></li>\n	<li style="margin: 0px 0px 0px 25px\; padding: 0px 0px 0px 10px\; box-sizing: inherit\; -webkit-font-smoothing: antialiased\;"><span style="font-size:14px\;"><span style="font-family:arial\;"><span style="color:#000080\;"><span style="margin: 0px\; padding: 0px\; box-sizing: inherit\; -webkit-font-smoothing: antialiased\; text-decoration: inherit\;">Enter for your chance to win&nbsp\;</span><span style="margin: 0px\; padding: 0px\; box-sizing: inherit\; -webkit-font-smoothing: antialiased\; text-decoration: inherit\;">a&nbsp\;<strong style="margin: 0px\; padding: 0px\; box-sizing: inherit\; -webkit-font-smoothing: antialiased\;">3-night stay for two to Rosemary Beach with 360 Blue</strong>\,&nbsp\;<strong style="margin: 0px\; padding: 0px\; box-sizing: inherit\; -webkit-font-smoothing: antialiased\;">a YOLO inflatable paddleboard\,&nbsp\;</strong>or a homemade wooden table set</span></span></span></span></li>\n</ul>\n\n<p style="margin: 0px\; padding: 0px\; box-sizing: inherit\; -webkit-font-smoothing: antialiased\; font-size: 22px\;">&nbsp\;</p>\n\n<p style="margin: 0px\; padding: 0px\; box-sizing: inherit\; -webkit-font-smoothing: antialiased\; font-size: 22px\;"><span style="font-size:14px\;"><span style="font-family:arial\;"><span style="color:#000080\;"><span style="margin: 0px\; padding: 0px\; box-sizing: inherit\; -webkit-font-smoothing: antialiased\; text-decoration: inherit\;">All registered attendees will receive one free entry into the night&#39\;s drawing. &nbsp\;You may also donate for additional entries by visiting their&nbsp\;event GiveAway page at<strong style="margin: 0px\; padding: 0px\; box-sizing: inherit\; -webkit-font-smoothing: antialiased\;">&nbsp\;</strong></span></span></span></span><strong style="margin: 0px\; padding: 0px\; box-sizing: inherit\; -webkit-font-smoothing: antialiased\;"><a href="https://thesonderproject.org/giveaway" rel="nofollow" style="margin: 0px\; padding: 0px\; box-sizing: inherit\; -webkit-font-smoothing: antialiased\; color: inherit\; cursor: pointer\; text-decoration-line: none\;" target="_blank"><span style="color:#000080\;"><span style="margin: 0px\; padding: 0px\; box-sizing: inherit\; -webkit-font-smoothing: antialiased\; text-decoration: inherit\; font-size: 30px\;"><span style="font-size:14px\;"><span style="font-family:arial\;">https://thesonderproject.org/</span></span>giveaway</span></span></a><span style="color:#000080\;"><span style="margin: 0px\; padding: 0px\; box-sizing: inherit\; -webkit-font-smoothing: antialiased\; text-decoration: inherit\; font-size: 24px\;">.</span>&nbsp\;</span></strong><span style="color:#000080\;">&nbsp\;&nbsp\;<span style="margin: 0px\; padding: 0px\; box-sizing: inherit\; -webkit-font-smoothing: antialiased\; text-decoration: inherit\; font-size: 24px\;">See drawing details on our GiveAway page. &nbsp\;</span></span></p>\n\n<p style="margin: 0px\; padding: 0px\; box-sizing: inherit\; -webkit-font-smoothing: antialiased\; font-size: 22px\;">&nbsp\;</p>\n\n<p style="margin: 0px\; padding: 0px\; box-sizing: inherit\; -webkit-font-smoothing: antialiased\; font-size: 22px\;"><span style="color:#000080\;"><span style="margin: 0px\; padding: 0px\; box-sizing: inherit\; -webkit-font-smoothing: antialiased\; text-decoration: inherit\; font-size: 24px\;">This is a family-friendly event and will not require screen sharing\, so please come prepared to sit back\, relax\, and enjoy the show!</span></span></p>\n</div>\n</div>\n
LOCATION:Register HERE for the Zoom link
UID:e.885.30083
SEQUENCE:3
DTSTAMP:20260422T124916Z
URL:https://business.waltonareachamber.com/events/details/discover-the-impact-a-virtual-event-by-the-sonder-project-30083
END:VEVENT

END:VCALENDAR
