BEGIN:VCALENDAR
VERSION:2.0
PRODID:-//ChamberMaster//Event Calendar 2.0//EN
METHOD:PUBLISH
X-PUBLISHED-TTL:P3D
REFRESH-INTERVAL:P3D
CALSCALE:GREGORIAN
BEGIN:VEVENT
DTSTART:20210620T130000Z
DTEND:20210620T190000Z
X-MICROSOFT-CDO-ALLDAYEVENT:FALSE
SUMMARY:Donuts with Dad at FOOW
DESCRIPTION:Donuts with Dad at FOOW\n\n \nJune 20\, 8 a.m.   2 p.m.\n\nDonuts with Dad at FOOW\n\nCelebrate dad with donuts and coffee at FOOW! All dads will receive complimentary coffee and donuts (with the purchase of an accompanying entr e)   and lots of quality family time\, too. FOOW's regular breakfast menu will be available. In order to seat guests more efficiently\, reservations are not accepted.\n\n\n	Website: foow30a.com\n	Address: 34 Goldenrod Cir\, Santa Rosa Beach\, FL 32459\n	Phone: (850) 534-5050
X-ALT-DESC;FMTTYPE=text/html:<span style="font-size:14px\;"><span style="font-family:arial\;"><strong style="color: rgb(0\, 0\, 0)\; font-family: Arial\, Helvetica\, sans-serif\; font-size: 14.6667px\;"><span style="margin: 0px\; padding: 0px\; border: 0px\; font-style: inherit\; font-variant: inherit\; font-weight: inherit\; font-stretch: inherit\; line-height: 22px\; vertical-align: baseline\;">Donuts with Dad at FOOW</span></strong></span></span><br />\n&nbsp\;\n<p style="font-size: 11pt\; color: rgb(0\, 0\, 0)\; font-family: Arial\, Helvetica\, sans-serif\; line-height: 22px\;"><span style="font-size:14px\;"><span style="font-family:arial\;"><span style="margin: 0px\; padding: 0px\; border: 0px\; font-style: inherit\; font-variant: inherit\; font-weight: inherit\; font-stretch: inherit\; line-height: 22px\; vertical-align: baseline\;"><strong>June 20\, 8 a.m. &ndash\; 2 p.m.</strong></span></span></span></p>\n\n<p style="font-size: 11pt\; color: rgb(0\, 0\, 0)\; font-family: Arial\, Helvetica\, sans-serif\; line-height: 22px\;"><span style="font-size:14px\;"><span style="font-family:arial\;"><strong><span style="margin: 0px\; padding: 0px\; border: 0px\; font-style: inherit\; font-variant: inherit\; font-weight: inherit\; font-stretch: inherit\; line-height: 22px\; vertical-align: baseline\;">Donuts with Dad at FOOW</span></strong><br />\n<span style="margin: 0px\; padding: 0px\; border: 0px\; font-style: inherit\; font-variant: inherit\; font-weight: inherit\; font-stretch: inherit\; line-height: 22px\; vertical-align: baseline\;">Celebrate dad with donuts and coffee at FOOW! All dads will receive complimentary coffee and donuts (with the purchase of an accompanying entr&eacute\;e) &ndash\; and lots of quality family time\, too. FOOW&rsquo\;s regular breakfast menu will be available. In order to seat guests more efficiently\, reservations are not accepted.</span></span></span></p>\n\n<ul style="font-size: 11pt\; color: rgb(0\, 0\, 0)\; font-family: Arial\, Helvetica\, sans-serif\; line-height: 22px\;">\n	<li><span style="font-size:14px\;"><span style="font-family:arial\;"><span style="margin: 0px\; padding: 0px\; border: 0px\; font-style: inherit\; font-variant: inherit\; font-weight: inherit\; font-stretch: inherit\; line-height: 22px\; vertical-align: baseline\;">Website:&nbsp\;</span><span style="margin: 0px\; padding: 0px\; border: 0px\; font-style: inherit\; font-variant: inherit\; font-weight: inherit\; font-stretch: inherit\; line-height: 22px\; vertical-align: baseline\; color: inherit\;"><a data-auth="NotApplicable" data-linkindex="6" href="https://marketing.visitsouthwalton.com/acton/ct/42551/s-008f-2106/Bct/q-0014/l-0012:5fb/ct5_0/1/lu?sid=TV2%3AsSviszqWo" id="x_ct5_0" rel="noopener noreferrer" style="margin: 0px\; padding: 0px\; border: 0px\; font-style: inherit\; font-variant: inherit\; font-weight: inherit\; font-stretch: inherit\; font-size: inherit\; line-height: 22px\; font-family: inherit\; vertical-align: baseline\; color: rgb(40\, 128\, 187)\;" target="_blank">foow30a.com</a></span></span></span></li>\n	<li><span style="font-size:14px\;"><span style="font-family:arial\;"><span style="margin: 0px\; padding: 0px\; border: 0px\; font-style: inherit\; font-variant: inherit\; font-weight: inherit\; font-stretch: inherit\; line-height: 22px\; vertical-align: baseline\;">Address: 34 Goldenrod Cir\, Santa Rosa Beach\, FL 32459</span></span></span></li>\n	<li><span style="font-size:14px\;"><span style="font-family:arial\;"><span style="margin: 0px\; padding: 0px\; border: 0px\; font-style: inherit\; font-variant: inherit\; font-weight: inherit\; font-stretch: inherit\; line-height: 22px\; vertical-align: baseline\;">Phone: (850) 534-5050</span></span></span></li>\n</ul>\n
LOCATION:
UID:e.885.32361
SEQUENCE:3
DTSTAMP:20260422T200252Z
URL:https://business.waltonareachamber.com/events/details/donuts-with-dad-at-foow-32361
END:VEVENT

END:VCALENDAR
