BEGIN:VCALENDAR
VERSION:2.0
PRODID:-//ChamberMaster//Event Calendar 2.0//EN
METHOD:PUBLISH
X-PUBLISHED-TTL:P3D
REFRESH-INTERVAL:P3D
CALSCALE:GREGORIAN
BEGIN:VEVENT
DTSTART:20220120T230000Z
DTEND:20220121T010000Z
X-MICROSOFT-CDO-ALLDAYEVENT:FALSE
SUMMARY:Dual Business After Hours Walkabout sponsored by Capital City Bank & Capital City Home Loans
DESCRIPTION:Come and join us for Business After Hours. Network\, eat\, drink and have a good time. Get your reservation in now!
X-ALT-DESC;FMTTYPE=text/html:<span style="font-size:28px\;"><span style="font-family:arial\;"><span style="caret-color: rgb(107\, 107\, 107)\; text-align: center\; white-space: pre-wrap\;">Come and join us for Business After Hours. Network\, eat\, drink and have a good time. Get your reservation in now!</span></span></span>
LOCATION:Walkabout at Idyll Hounds\, Distillery 98 and 30ATV
UID:e.885.32598
SEQUENCE:3
DTSTAMP:20260423T083554Z
URL:https://business.waltonareachamber.com/events/details/dual-business-after-hours-walkabout-sponsored-by-capital-city-bank-capital-city-home-loans-32598
END:VEVENT

END:VCALENDAR
