BEGIN:VCALENDAR
VERSION:2.0
PRODID:-//ChamberMaster//Event Calendar 2.0//EN
METHOD:PUBLISH
X-PUBLISHED-TTL:P3D
REFRESH-INTERVAL:P3D
CALSCALE:GREGORIAN
BEGIN:VEVENT
DTSTART:20211217T180000Z
DTEND:20211217T210000Z
X-MICROSOFT-CDO-ALLDAYEVENT:FALSE
SUMMARY:Dual Ribbon Cutting and Open House for Flex Fitness Freeport
DESCRIPTION:Please join us for a Dual Ribbon Cutting with Freeport Merchant's Association for Flex Fitness Freeport!  They will also be hosting an open house.  Lite bites and refreshments will be provided.  We hope to see you all there!
X-ALT-DESC;FMTTYPE=text/html:Please join us for a Dual Ribbon Cutting with Freeport Merchant&#39\;s Association for Flex Fitness Freeport!&nbsp\; They will also be hosting an open house.&nbsp\; Lite bites and refreshments will be provided.&nbsp\; We hope to see you all there!
LOCATION:
UID:e.885.33158
SEQUENCE:3
DTSTAMP:20260423T063844Z
URL:https://business.waltonareachamber.com/events/details/dual-ribbon-cutting-and-open-house-for-flex-fitness-freeport-33158
END:VEVENT

END:VCALENDAR
