BEGIN:VCALENDAR
VERSION:2.0
PRODID:-//ChamberMaster//Event Calendar 2.0//EN
METHOD:PUBLISH
X-PUBLISHED-TTL:P3D
REFRESH-INTERVAL:P3D
CALSCALE:GREGORIAN
BEGIN:VEVENT
DTSTART:20250426T140000Z
DTEND:20250426T190000Z
X-MICROSOFT-CDO-ALLDAYEVENT:FALSE
SUMMARY:Earth Day Expo
DESCRIPTION:The Earth Day Expo at the E.O. Wilson Biophilia Center celebrates nature and environmental stewardship with a vibrant gathering of native plant vendors\, educational exhibitors\, and community organizations. Attendees can explore interactive displays\, learn about local ecosystems\, and discover ways to engage with the outdoors. The event features expert presentations\, live animal chats\, and activities designed to inspire all ages. Join us in honoring Earth Day while connecting with nature and supporting sustainable practices.
X-ALT-DESC;FMTTYPE=text/html:The Earth Day Expo at the E.O. Wilson Biophilia Center celebrates nature and environmental stewardship with a vibrant gathering of native plant vendors\, educational exhibitors\, and community organizations. Attendees can explore interactive displays\, learn about local ecosystems\, and discover ways to engage with the outdoors. The event features expert presentations\, live animal chats\, and activities designed to inspire all ages. Join us in honoring Earth Day while connecting with nature and supporting sustainable practices.
LOCATION:E.O. Wilson Biophilia Center
UID:e.885.54735
SEQUENCE:3
DTSTAMP:20260423T030948Z
URL:https://business.waltonareachamber.com/events/details/earth-day-expo-54735
END:VEVENT

END:VCALENDAR
