BEGIN:VCALENDAR
VERSION:2.0
PRODID:-//ChamberMaster//Event Calendar 2.0//EN
METHOD:PUBLISH
X-PUBLISHED-TTL:P3D
REFRESH-INTERVAL:P3D
CALSCALE:GREGORIAN
BEGIN:VEVENT
DTSTART:20210404T173000Z
DTEND:20210404T180000Z
X-MICROSOFT-CDO-ALLDAYEVENT:FALSE
SUMMARY:Easter Egg Hunt at North Beach Social
DESCRIPTION:Bring the kiddos and come hunt Easter eggs on the beach! At 12:30PM on Easter Sunday\, kids will run wild finding eggs! Stay for music by Matt Lyons from 1-4PM!
X-ALT-DESC;FMTTYPE=text/html:<div class="sjgh65i0" style="margin-bottom: 16px\; font-family: inherit\;">\n<div class="j83agx80 l9j0dhe7 k4urcfbm" style="display: flex\; width: 500px\; position: relative\; font-family: inherit\;">\n<div class="rq0escxv l9j0dhe7 du4w35lb hybvsw6c io0zqebd m5lcvass fbipl8qg nwvqtn77 k4urcfbm ni8dbmo4 stjgntxs sbcfpzgs" style="z-index: 0\; border-radius: max(0px\, min(8px\, ((100vw - 4px) - 100%) * 9999)) / 8px\; background-color: var(--surface-background)\; width: 500px\; position: relative\; overflow: hidden\; box-sizing: border-box\; --T68779821:0 1px 2px var(--shadow-2)\; box-shadow: 0 1px 2px var(--shadow-2)\; font-family: inherit\;">\n<div class="discj3wi ihqw7lf3" style="padding-top: 16px\; padding-bottom: 16px\; font-family: inherit\;">\n<div class="dati1w0a hv4rvrfc" style="padding-left: 16px\; padding-right: 16px\; font-family: inherit\;">\n<div class="kvgmc6g5 cxmmr5t8 oygrvhab hcukyx3x c1et5uql" style="overflow-wrap: break-word\; margin: 0px\; font-family: inherit\;"><span class="d2edcug0 hpfvmrgz qv66sw1b c1et5uql lr9zc1uh a8c37x1j keod5gw0 nxhoafnm aigsh9s9 d3f4x2em fe6kdd0r mau55g9w c8b282yb iv3no6db jq4qci2q a3bd9o3v knj5qynh oo9gr5id" dir="auto" style="line-height: 1.3333\; display: block\; overflow-wrap: break-word\; max-width: 100%\; min-width: 0px\; font-size: 0.9375rem\; color: var(--primary-text)\; word-break: break-word\;"><span style="font-size:14px\;">Bring the kiddos and come hunt Easter eggs on the beach! At 12:30PM on Easter Sunday\, kids will run wild finding eggs! Stay for music by Matt Lyons from 1-4PM!</span></span></div>\n\n<div class="gl3lb2sf" style="height: 16px\; font-family: inherit\;">&nbsp\;</div>\n\n<div class="lhclo0ds j83agx80" style="display: flex\; flex-wrap: wrap\; font-family: inherit\;">\n<div style="font-family: inherit\;">\n<div class="scb9dxdr sj5x9vvc dflh9lhu cxgpxx05 aahdfvyu tvmbv18p taijpn5t j83agx80 rq0escxv qttc61fc ihh4hy1g kdgqqoy6 jk6sbkaj tdjehn4e bp9cbjyn" style="margin-top: 4px\; align-items: center\; padding: 8px\; border-radius: 4px\; display: flex\; box-sizing: border-box\; justify-content: center\; background-color: var(--secondary-button-background)\; margin-bottom: 4px\; font-family: inherit\;">&nbsp\;</div>\n</div>\n</div>\n</div>\n</div>\n</div>\n</div>\n</div>\n\n<div class="sjgh65i0" style="margin-bottom: 16px\; font-family: inherit\;">\n<div class="j83agx80 l9j0dhe7 k4urcfbm" style="display: flex\; width: 500px\; position: relative\; font-family: inherit\;">\n<div class="rq0escxv l9j0dhe7 du4w35lb hybvsw6c io0zqebd m5lcvass fbipl8qg nwvqtn77 k4urcfbm ni8dbmo4 stjgntxs sbcfpzgs" style="z-index: 0\; border-radius: max(0px\, min(8px\, ((100vw - 4px) - 100%) * 9999)) / 8px\; background-color: var(--surface-background)\; width: 500px\; position: relative\; overflow: hidden\; box-sizing: border-box\; --T68779821:0 1px 2px var(--shadow-2)\; box-shadow: 0 1px 2px var(--shadow-2)\; font-family: inherit\;">\n<div class="ihqw7lf3" style="padding-bottom: 16px\; font-family: inherit\;">\n<div class="oajrlxb2 g5ia77u1 qu0x051f esr5mh6w e9989ue4 r7d6kgcz rq0escxv nhd2j8a9 nc684nl6 p7hjln8o kvgmc6g5 cxmmr5t8 oygrvhab hcukyx3x jb3vyjys rz4wbd8a qt6c0cv9 a8nywdso i1ao9s8h esuyzwwr f1sip0of lzcic4wl l9j0dhe7 abiwlrkh p8dawk7l" role="button" style="outline: none\; list-style: none\; border-width: 0px\; border-style: initial\; border-color: initial\; padding: 0px\; user-select: none\; margin: 0px\; touch-action: manipulation\; position: relative\; display: inline\; cursor: pointer\; -webkit-tap-highlight-color: transparent\; box-sizing: border-box\; font-family: &quot\;Segoe UI Historic&quot\;\, &quot\;Segoe UI&quot\;\, Helvetica\, Arial\, sans-serif\; color: rgb(28\, 30\, 33)\; font-size: 12px\;" tabindex="0">\n<div class="l9j0dhe7 stjgntxs ni8dbmo4 do00u71z" style="height: 0px\; position: relative\; overflow: hidden\; font-family: inherit\; padding-top: 375px\;">\n<div class="oqq733wu pmk7jnqg fpi38s0q o0s42vec" style="bottom: 14px\; right: 14px\; pointer-events: all\; position: absolute\; font-family: inherit\;">\n<div aria-label="View Map Info" class="oajrlxb2 gs1a9yip g5ia77u1 mtkw9kbi tlpljxtp qensuy8j ppp5ayq2 goun2846 ccm00jje s44p3ltw mk2mc5f4 rt8b4zig n8ej3o3l agehan2d sk4xxmp2 rq0escxv nhd2j8a9 pq6dq46d mg4g778l btwxx1t3 pfnyh3mw p7hjln8o kvgmc6g5 cxmmr5t8 oygrvhab hcukyx3x tgvbjcpo hpfvmrgz jb3vyjys rz4wbd8a qt6c0cv9 a8nywdso l9j0dhe7 i1ao9s8h esuyzwwr f1sip0of du4w35lb lzcic4wl abiwlrkh p8dawk7l dwo3fsh8 pzggbiyp pkj7ub1o bqnlxs5p kkg9azqs c24pa1uk ln9iyx3p fe6kdd0r ar1oviwq l10q8mi9 sq40qgkc s8quxz6p pdjglbur" role="button" style="outline: none\; list-style: none\; border-width: 0px\; border-style: solid\; border-top-color: var(--always-dark-overlay)\; border-left-color: var(--always-dark-overlay)\; border-bottom-color: var(--always-dark-overlay)\; border-right-color: var(--always-dark-overlay)\; padding: 0px\; user-select: none\; flex-direction: row\; margin: 0px\; z-index: 0\; appearance: none\; touch-action: manipulation\; background-color: transparent\; align-items: stretch\; min-width: 0px\; text-align: inherit\; position: relative\; flex-basis: auto\; cursor: pointer\; -webkit-tap-highlight-color: transparent\; flex-shrink: 0\; display: inline-flex\; vertical-align: bottom\; box-sizing: border-box\; min-height: 0px\; font-family: inherit\;" tabindex="0">\n<div class="s45kfl79 emlxlaya bkmhp75w spb7xbtv i09qtzwb n7fi1qx3 b5wmifdl hzruof5a pmk7jnqg j9ispegn kr520xx4 c5ndavph art1omkt ot9fgl3s" data-visualcompletion="ignore" style="transition-property: opacity\; opacity: 0\; border-radius: 50%\; transition-duration: var(--fds-duration-extra-extra-short-out)\; pointer-events: none\; inset: -8px\; transition-timing-function: var(--fds-animation-fade-out)\; position: absolute\; font-family: inherit\;">&nbsp\;</div>\n</div>\n</div>\n</div>\n\n<div class="n00je7tq arfg74bv qs9ysxi8 k77z8yql i09qtzwb n7fi1qx3 b5wmifdl hzruof5a pmk7jnqg j9ispegn kr520xx4 c5ndavph art1omkt ot9fgl3s rnr61an3" data-visualcompletion="ignore" style="border-radius: inherit\; transition-property: opacity\; opacity: 0\; transition-duration: var(--fds-duration-extra-extra-short-out)\; pointer-events: none\; inset: 0px\; transition-timing-function: var(--fds-animation-fade-out)\; position: absolute\; background-color: var(--hover-overlay)\; font-family: inherit\;">&nbsp\;</div>\n</div>\n</div>\n</div>\n</div>\n</div>\n
LOCATION:North Beach Social
UID:e.885.29836
SEQUENCE:3
DTSTAMP:20260422T124706Z
URL:https://business.waltonareachamber.com/events/details/easter-egg-hunt-at-north-beach-social-29836
END:VEVENT

END:VCALENDAR
