BEGIN:VCALENDAR
VERSION:2.0
PRODID:-//ChamberMaster//Event Calendar 2.0//EN
METHOD:PUBLISH
X-PUBLISHED-TTL:P3D
REFRESH-INTERVAL:P3D
CALSCALE:GREGORIAN
BEGIN:VEVENT
DTSTART;VALUE=DATE:20251124
DTEND;VALUE=DATE:20251216
TRANSP:TRANSPARENT
X-MICROSOFT-CDO-ALLDAYEVENT:TRUE
SUMMARY:Ecco Motors Holiday Giving: Merry Wishes Tree
DESCRIPTION:Support local foster children this holiday season by visiting the Ecco Motors showroom and participating in the Merry Wishes Tree program. The tree is filled with ornaments each representing a child in need. Some ornaments list a child's name\, age\, and holiday wish\, while others provide an option for monetary donations.\n\nSelect an ornament\, purchase a gift\, and return it unwrapped with the ornament attached. Every donation helps make a child's Christmas brighter and more memorable.\n\nTree Display: November 1   December 15\n\nLocation: Ecco Motors Showroom\, 1447 Professional Place\n\nGift Drop-Off Deadline: December 15\n\nTogether\, we can spread joy and make a meaningful impact for Children in Crisis this season.
X-ALT-DESC;FMTTYPE=text/html:<p data-end="487" data-start="146">Support local foster children this holiday season by visiting the Ecco Motors showroom and participating in the Merry Wishes Tree program. The tree is filled with ornaments&mdash\;each representing a child in need. Some ornaments list a child&rsquo\;s name\, age\, and holiday wish\, while others provide an option for monetary donations.</p>\n\n<p data-end="656" data-start="489">Select an ornament\, purchase a gift\, and return it <strong data-end="553" data-start="540">unwrapped</strong> with the ornament attached. Every donation helps make a child&rsquo\;s Christmas brighter and more memorable.</p>\n\n<p data-end="806" data-start="658"><strong data-end="675" data-start="658">Tree Display:</strong> November 1 &ndash\; December 15<br data-end="703" data-start="700" />\n<strong data-end="716" data-start="703">Location:</strong> Ecco Motors Showroom\, 1447 Professional Place<br data-end="765" data-start="762" />\n<strong data-end="792" data-start="765">Gift Drop-Off Deadline:</strong> December 15</p>\n\n<p data-end="900" data-start="808">Together\, we can spread joy and make a meaningful impact for Children in Crisis this season.</p>\n
LOCATION:Location: Ecco Motors Showroom\, 1447 Professional Place
UID:e.885.56132
SEQUENCE:3
DTSTAMP:20260422T142053Z
URL:https://business.waltonareachamber.com/events/details/ecco-motors-holiday-giving-merry-wishes-tree-56132
END:VEVENT

END:VCALENDAR
