BEGIN:VCALENDAR
VERSION:2.0
PRODID:-//ChamberMaster//Event Calendar 2.0//EN
METHOD:PUBLISH
X-PUBLISHED-TTL:P3D
REFRESH-INTERVAL:P3D
CALSCALE:GREGORIAN
BEGIN:VEVENT
DTSTART:20210410T000000Z
DTEND:20210410T010000Z
X-MICROSOFT-CDO-ALLDAYEVENT:FALSE
SUMMARY:ECTC Kids Present Madagascar – A Musical Adventure JR.
DESCRIPTION:EDU KIDS MUSICAL COMEDY\n\nBook by Kevin Del Aguila  Original Music and Lyrics by George Noriega Joel Someillan\n\n\n\n\n\n\nJoin Alex the Lion\, Marty the Zebra\, Melman the Giraffe\, Gloria the hip hip Hippo and\, of course\, those hilarious\, plotting penguins as they bound onto your stage in the musical adventure of a lifetime.  This hilarious show follows all of your favorite crack-a-lackin' friends as they escape from their home in New York's Central Park Zoo and find themselves on an unexpected journey to the madcap world of King Julien's Madagascar.  Performed by our fantastic education program students.
X-ALT-DESC;FMTTYPE=text/html:<div>\n<h2><span style="font-size:14px\;"><span style="font-family:arial\;">EDU KIDS MUSICAL COMEDY</span></span></h2>\n\n<p><span style="font-size:14px\;"><span style="font-family:arial\;">Book by Kevin Del Aguila&nbsp\; Original Music and Lyrics by George Noriega Joel Someillan</span></span></p>\n</div>\n\n<div>\n<div>\n<div>\n<div>\n<p><span style="font-size:14px\;"><span style="font-family:arial\;">Join Alex the Lion\, Marty the Zebra\, Melman the Giraffe\, Gloria the hip hip Hippo and\, of course\, those hilarious\, plotting penguins as they bound onto your stage in the musical adventure of a lifetime.&nbsp\; This hilarious show follows all of your favorite crack-a-lackin&rsquo\; friends as they escape from their home in New York&rsquo\;s Central Park Zoo and find themselves on an unexpected journey to the madcap world of King Julien&rsquo\;s Madagascar.&nbsp\; Performed by our fantastic education program students.</span></span></p>\n</div>\n</div>\n</div>\n</div>\n
LOCATION:560 Grand Boulevard\, Suite 200 Miramar Beach\, FL 32550 The theatre is located upstairs.
UID:e.885.29373
SEQUENCE:3
DTSTAMP:20260422T124859Z
URL:https://business.waltonareachamber.com/events/details/ectc-kids-present-madagascar-a-musical-adventure-jr-29373
END:VEVENT

END:VCALENDAR
