BEGIN:VCALENDAR
VERSION:2.0
PRODID:-//ChamberMaster//Event Calendar 2.0//EN
METHOD:PUBLISH
X-PUBLISHED-TTL:P3D
REFRESH-INTERVAL:P3D
CALSCALE:GREGORIAN
BEGIN:VEVENT
DTSTART:20210505T000000Z
DTEND:20210505T013000Z
X-MICROSOFT-CDO-ALLDAYEVENT:FALSE
SUMMARY:ECTC's Jr. Company and Thespian Showcase
DESCRIPTION:EDU SENIOR HIGH AND JR. THESPIAN TROUPE PERFORMANCE\n\n\n\n\n\n\nAn exciting showcase featuring group and solo works by our talented teens. This evening will include classic and contemporary musical theatre pieces\, improv\, and comedic and dramatic selections. Don't miss this one night only event that will be fun for the whole family.
X-ALT-DESC;FMTTYPE=text/html:<div>\n<div>\n<h2><span style="font-size:14px\;"><span style="font-family:arial\;">EDU SENIOR HIGH AND JR. THESPIAN TROUPE PERFORMANCE</span></span></h2>\n</div>\n\n<div>\n<div>\n<div>\n<div>\n<p><span style="font-size:14px\;"><span style="font-family:arial\;">An exciting showcase featuring group and solo works by our talented teens.&nbsp\;This evening will include classic and contemporary musical theatre pieces\, improv\, and comedic and dramatic selections.&nbsp\;Don&rsquo\;t miss this one night only event that will be fun for the whole family.</span></span></p>\n</div>\n</div>\n</div>\n\n<div>\n<div>\n<div>&nbsp\;</div>\n</div>\n</div>\n</div>\n</div>\n\n<div style="margin-left:auto\; margin-right:auto">&nbsp\;</div>\n
LOCATION:560 Grand Boulevard\, Suite 200 Miramar Beach\, FL 32550 The theatre is located upstairs.
UID:e.885.29379
SEQUENCE:3
DTSTAMP:20260422T142825Z
URL:https://business.waltonareachamber.com/events/details/ectc-s-jr-company-and-thespian-showcase-29379
END:VEVENT

END:VCALENDAR
