BEGIN:VCALENDAR
VERSION:2.0
PRODID:-//ChamberMaster//Event Calendar 2.0//EN
METHOD:PUBLISH
X-PUBLISHED-TTL:P3D
REFRESH-INTERVAL:P3D
CALSCALE:GREGORIAN
BEGIN:VEVENT
DTSTART:20210303T013000Z
DTEND:20210303T030000Z
X-MICROSOFT-CDO-ALLDAYEVENT:FALSE
SUMMARY:ECTC's Storyteller Series: Katharine Hepburn
DESCRIPTION:The Storyteller Series\n\n\n\nA series of powerful\, poignant\, funny\, and touching stories crafted by skilled storytellers. Each show is a can't miss unique experience that will entertain and inspire audience members of any age.\n\n\n\n \n\nKATHARINE HEPBURN BY SHIRLEY SIMPSON\n\nAn unforgettable event\, our very own Shirley Simpson embodies wit\, charm\, and fierce grit as Katharine Hepburn.  Simpson gives a humorous and touching portrayal of the fiery and independent Hepburn throughout her career and the events and people who shaped her life. A fascinating story performed by a fascinating woman. This is one you will not want to miss!
X-ALT-DESC;FMTTYPE=text/html:<div>\n<h2><span style="font-size:14px\;"><span style="font-family:arial\;"><strong><em>The Storyteller Series</em></strong></span></span></h2>\n</div>\n\n<div>\n<p><span style="font-size:14px\;"><span style="font-family:arial\;">A series of powerful\, poignant\, funny\, and touching stories crafted by skilled storytellers. Each show is a can&rsquo\;t miss unique experience that will entertain and inspire audience members of any age.</span></span><br />\n<br />\n&nbsp\;</p>\n\n<h3><span style="font-size:14px\;"><span style="font-family:arial\;"><strong><em>KATHARINE HEPBURN</em></strong> BY SHIRLEY SIMPSON</span></span></h3>\n\n<p><span style="font-size:14px\;"><span style="font-family:arial\;">An unforgettable event\, our very own Shirley Simpson embodies wit\, charm\, and fierce grit as <em>Katharine Hepburn</em>.&nbsp\; Simpson gives a humorous and touching portrayal of the fiery and independent Hepburn throughout her career and the events and people who shaped her life.&nbsp\;A fascinating story performed by a fascinating woman.&nbsp\;This is one you will not want to miss!</span></span></p>\n</div>\n
LOCATION:560 Grand Boulevard\, Suite 200 Miramar Beach\, FL 32550 The theatre is located upstairs.
UID:e.885.29077
SEQUENCE:3
DTSTAMP:20260422T110913Z
URL:https://business.waltonareachamber.com/events/details/ectc-s-storyteller-series-katharine-hepburn-03-02-2021-29077
END:VEVENT

END:VCALENDAR
