BEGIN:VCALENDAR
VERSION:2.0
PRODID:-//ChamberMaster//Event Calendar 2.0//EN
METHOD:PUBLISH
X-PUBLISHED-TTL:P3D
REFRESH-INTERVAL:P3D
CALSCALE:GREGORIAN
BEGIN:VEVENT
DTSTART:20210417T190000Z
DTEND:20210417T201500Z
X-MICROSOFT-CDO-ALLDAYEVENT:FALSE
SUMMARY:ECTC Teens Present: Mary Poppins Jr.
DESCRIPTION:EDU TEENS MUSICAL COMEDY\n\nBook by Julian Fellowes\, Original Music and Lyrics by Richard M. Sherman and Robert B. Sherman\n\n\n\nThe jack-of-all trades\, Bert\, introduces us to England in 1910 and the troubled Banks family. Young Jane and Michael have sent many a nanny packing before Mary Poppins arrives on their doorstep. Disney's Mary Poppins JR. is an enchanting mixture of irresistible story\, unforgettable songs and crowd pleasing dance numbers all performed by our talented teens!
X-ALT-DESC;FMTTYPE=text/html:<div>\n<h2><span style="font-size:14px\;"><span style="font-family:arial\;">EDU TEENS MUSICAL COMEDY</span></span></h2>\n\n<p><span style="font-size:14px\;"><span style="font-family:arial\;">Book by Julian Fellowes\, Original Music and Lyrics by Richard M. Sherman and Robert B. Sherman</span></span></p>\n</div>\n\n<div>\n<p><span style="font-size:14px\;"><span style="font-family:arial\;">The jack-of-all trades\, Bert\, introduces us to England in 1910 and the troubled Banks family. Young Jane and Michael have sent many a nanny packing before Mary Poppins arrives on their doorstep.&nbsp\;<em>Disney&rsquo\;s Mary Poppins JR.&nbsp\;</em>is an enchanting mixture of irresistible story\, unforgettable songs and crowd pleasing dance numbers all performed by our talented teens!</span></span></p>\n</div>\n
LOCATION:560 Grand Boulevard\, Suite 200 Miramar Beach\, FL 32550 The theatre is located upstairs.
UID:e.885.29375
SEQUENCE:3
DTSTAMP:20260422T124755Z
URL:https://business.waltonareachamber.com/events/details/ectc-teens-present-mary-poppins-jr-29375
END:VEVENT

END:VCALENDAR
