BEGIN:VCALENDAR
VERSION:2.0
PRODID:-//ChamberMaster//Event Calendar 2.0//EN
METHOD:PUBLISH
X-PUBLISHED-TTL:P3D
REFRESH-INTERVAL:P3D
CALSCALE:GREGORIAN
BEGIN:VEVENT
DTSTART:20210329T050000Z
DTEND:20210404T165500Z
X-MICROSOFT-CDO-ALLDAYEVENT:FALSE
SUMMARY:Emerald Coast Classic at Sandestin
DESCRIPTION:The Emerald Coast Classic Sandestin is a new tournament debuting on the PGA TOUR's Korn Ferry Tour schedule in 2021. It will be contested at Sandestin Golf and Beach Resort's Raven Golf Club the week of March 29   April 4\, 2021.
X-ALT-DESC;FMTTYPE=text/html:<span style="color: rgb(255\, 255\, 255)\; font-family: Montserrat\, sans-serif\; font-size: 16px\; background-color: rgb(24\, 54\, 96)\;">The Emerald Coast Classic Sandestin is a new tournament debuting on the PGA TOUR&rsquo\;s Korn Ferry Tour schedule in 2021. It will be contested at Sandestin Golf and Beach Resort&rsquo\;s Raven Golf Club the week of March 29 &ndash\; April 4\, 2021.</span>
LOCATION:
UID:e.885.29085
SEQUENCE:3
DTSTAMP:20260422T110739Z
URL:https://business.waltonareachamber.com/events/details/emerald-coast-classic-at-sandestin-29085
END:VEVENT

END:VCALENDAR
