BEGIN:VCALENDAR
VERSION:2.0
PRODID:-//ChamberMaster//Event Calendar 2.0//EN
METHOD:PUBLISH
X-PUBLISHED-TTL:P3D
REFRESH-INTERVAL:P3D
CALSCALE:GREGORIAN
BEGIN:VEVENT
DTSTART:20220423T160000Z
DTEND:20220423T200000Z
X-MICROSOFT-CDO-ALLDAYEVENT:FALSE
SUMMARY:Emerald Coast Crime Stoppers Crawfish Boil
DESCRIPTION:Please join Emerald Coast Crime Stoppers at Uptown Station FWB for their annual Crawfish Boil!
X-ALT-DESC;FMTTYPE=text/html:Please join Emerald Coast Crime Stoppers at Uptown Station FWB for their annual Crawfish Boil!&nbsp\;
LOCATION:99 Eglin Parkway NE Fort Walton Beach\, FL 32548
UID:e.885.33332
SEQUENCE:3
DTSTAMP:20260423T141653Z
URL:https://business.waltonareachamber.com/events/details/emerald-coast-crime-stoppers-crawfish-boil-33332
END:VEVENT

END:VCALENDAR
