BEGIN:VCALENDAR
VERSION:2.0
PRODID:-//ChamberMaster//Event Calendar 2.0//EN
METHOD:PUBLISH
X-PUBLISHED-TTL:P3D
REFRESH-INTERVAL:P3D
CALSCALE:GREGORIAN
BEGIN:VEVENT
DTSTART;VALUE=DATE:20220430
DTEND;VALUE=DATE:20220501
TRANSP:TRANSPARENT
X-MICROSOFT-CDO-ALLDAYEVENT:TRUE
SUMMARY:Emerald Coast Exotic Cars 2022
DESCRIPTION:Emerald Coast Exotic Cars (ECEC) is hosting our annual Exotic Car Show on Saturday April 30\, 2022. Every year\, we put on a show. Proceeds benefit the heroes at the Military Intrepid Spirit Centers. These centers help military personnel suffering from the effects of Traumatic Brain Injury and Post-Traumatic Stress by building a series of facilities on military bases across the nation. ECEC is a group of local exotic car owners such as Lamborghini\, Ferrari\, McLaren\, R8... spanning from Pensacola to Panama City. We currently have about 200 members.\n\n\n\nThe car show will be held at The Palms of Destin Resort\, on the rooftop of their garage. We currently have 60 exotic cars registered . We are expecting 1000+ spectators to attend (based on our last exotic car show). This is a family friendly event with music\, food and vendors. The day of the event we will have a "All Engine Rev" at 6 pm and an award ceremony at 6:30 pm. We are the only supercar show on the emerald coast.\n\n \n\nLeilani Ali\n\nEmeraldcoastexoticcars.org\n\nFB@EmeraldCoastEC\n\n981 Highway 98 East\n\nSuite 3 #232 \n\nDestin\, FL 32541
X-ALT-DESC;FMTTYPE=text/html:<span style="color: rgb(50\, 49\, 48)\; font-family: &quot\;Segoe UI&quot\;\, &quot\;Segoe UI Web (West European)&quot\;\, &quot\;Segoe UI&quot\;\, -apple-system\, BlinkMacSystemFont\, Roboto\, &quot\;Helvetica Neue&quot\;\, sans-serif\; font-size: 14.6667px\;">Emerald Coast Exotic Cars (ECEC) is hosting our annual Exotic Car Show on Saturday April 30\, 2022. Every year\, we put on a show. Proceeds benefit the heroes at the Military Intrepid Spirit Centers. These centers help military personnel suffering from the effects of Traumatic Brain Injury and Post-Traumatic Stress by building a series of facilities on military bases across the nation. ECEC is a group of local exotic car owners such as Lamborghini\, Ferrari\, McLaren\, R8... spanning from Pensacola to Panama City. We currently have about 200 members.</span><br aria-hidden="true" style="color: rgb(50\, 49\, 48)\; font-family: &quot\;Segoe UI&quot\;\, &quot\;Segoe UI Web (West European)&quot\;\, &quot\;Segoe UI&quot\;\, -apple-system\, BlinkMacSystemFont\, Roboto\, &quot\;Helvetica Neue&quot\;\, sans-serif\; font-size: 14.6667px\;" />\n<br aria-hidden="true" style="color: rgb(50\, 49\, 48)\; font-family: &quot\;Segoe UI&quot\;\, &quot\;Segoe UI Web (West European)&quot\;\, &quot\;Segoe UI&quot\;\, -apple-system\, BlinkMacSystemFont\, Roboto\, &quot\;Helvetica Neue&quot\;\, sans-serif\; font-size: 14.6667px\;" />\n<span style="color: rgb(50\, 49\, 48)\; font-family: &quot\;Segoe UI&quot\;\, &quot\;Segoe UI Web (West European)&quot\;\, &quot\;Segoe UI&quot\;\, -apple-system\, BlinkMacSystemFont\, Roboto\, &quot\;Helvetica Neue&quot\;\, sans-serif\; font-size: 14.6667px\;">The car show will be held at The Palms of Destin Resort\, on the rooftop of their garage. We currently have 60 exotic cars registered . We are expecting 1000+ spectators to attend (based on our last exotic car show). This is a family friendly event with music\, food and vendors. The day of the event we will have a &quot\;All Engine Rev&quot\; at 6 pm and an award ceremony at 6:30 pm. We are the only supercar show on the emerald coast.</span><br aria-hidden="true" style="color: rgb(50\, 49\, 48)\; font-family: &quot\;Segoe UI&quot\;\, &quot\;Segoe UI Web (West European)&quot\;\, &quot\;Segoe UI&quot\;\, -apple-system\, BlinkMacSystemFont\, Roboto\, &quot\;Helvetica Neue&quot\;\, sans-serif\; font-size: 14.6667px\;" />\n<span style="color: rgb(50\, 49\, 48)\; font-family: &quot\;Segoe UI&quot\;\, &quot\;Segoe UI Web (West European)&quot\;\, &quot\;Segoe UI&quot\;\, -apple-system\, BlinkMacSystemFont\, Roboto\, &quot\;Helvetica Neue&quot\;\, sans-serif\; font-size: 14.6667px\;">&nbsp\;</span><br aria-hidden="true" style="color: rgb(50\, 49\, 48)\; font-family: &quot\;Segoe UI&quot\;\, &quot\;Segoe UI Web (West European)&quot\;\, &quot\;Segoe UI&quot\;\, -apple-system\, BlinkMacSystemFont\, Roboto\, &quot\;Helvetica Neue&quot\;\, sans-serif\; font-size: 14.6667px\;" />\n<span style="color: rgb(50\, 49\, 48)\; font-family: &quot\;Segoe UI&quot\;\, &quot\;Segoe UI Web (West European)&quot\;\, &quot\;Segoe UI&quot\;\, -apple-system\, BlinkMacSystemFont\, Roboto\, &quot\;Helvetica Neue&quot\;\, sans-serif\; font-size: 14.6667px\;">Leilani Ali</span><br aria-hidden="true" style="color: rgb(50\, 49\, 48)\; font-family: &quot\;Segoe UI&quot\;\, &quot\;Segoe UI Web (West European)&quot\;\, &quot\;Segoe UI&quot\;\, -apple-system\, BlinkMacSystemFont\, Roboto\, &quot\;Helvetica Neue&quot\;\, sans-serif\; font-size: 14.6667px\;" />\n<span style="color: rgb(50\, 49\, 48)\; font-family: &quot\;Segoe UI&quot\;\, &quot\;Segoe UI Web (West European)&quot\;\, &quot\;Segoe UI&quot\;\, -apple-system\, BlinkMacSystemFont\, Roboto\, &quot\;Helvetica Neue&quot\;\, sans-serif\; font-size: 14.6667px\;">Emeraldcoastexoticcars.org</span><br aria-hidden="true" style="color: rgb(50\, 49\, 48)\; font-family: &quot\;Segoe UI&quot\;\, &quot\;Segoe UI Web (West European)&quot\;\, &quot\;Segoe UI&quot\;\, -apple-system\, BlinkMacSystemFont\, Roboto\, &quot\;Helvetica Neue&quot\;\, sans-serif\; font-size: 14.6667px\;" />\n<span style="color: rgb(50\, 49\, 48)\; font-family: &quot\;Segoe UI&quot\;\, &quot\;Segoe UI Web (West European)&quot\;\, &quot\;Segoe UI&quot\;\, -apple-system\, BlinkMacSystemFont\, Roboto\, &quot\;Helvetica Neue&quot\;\, sans-serif\; font-size: 14.6667px\;">FB@EmeraldCoastEC</span><br aria-hidden="true" style="color: rgb(50\, 49\, 48)\; font-family: &quot\;Segoe UI&quot\;\, &quot\;Segoe UI Web (West European)&quot\;\, &quot\;Segoe UI&quot\;\, -apple-system\, BlinkMacSystemFont\, Roboto\, &quot\;Helvetica Neue&quot\;\, sans-serif\; font-size: 14.6667px\;" />\n<span style="color: rgb(50\, 49\, 48)\; font-family: &quot\;Segoe UI&quot\;\, &quot\;Segoe UI Web (West European)&quot\;\, &quot\;Segoe UI&quot\;\, -apple-system\, BlinkMacSystemFont\, Roboto\, &quot\;Helvetica Neue&quot\;\, sans-serif\; font-size: 14.6667px\;">981 Highway 98 East</span><br aria-hidden="true" style="color: rgb(50\, 49\, 48)\; font-family: &quot\;Segoe UI&quot\;\, &quot\;Segoe UI Web (West European)&quot\;\, &quot\;Segoe UI&quot\;\, -apple-system\, BlinkMacSystemFont\, Roboto\, &quot\;Helvetica Neue&quot\;\, sans-serif\; font-size: 14.6667px\;" />\n<span style="color: rgb(50\, 49\, 48)\; font-family: &quot\;Segoe UI&quot\;\, &quot\;Segoe UI Web (West European)&quot\;\, &quot\;Segoe UI&quot\;\, -apple-system\, BlinkMacSystemFont\, Roboto\, &quot\;Helvetica Neue&quot\;\, sans-serif\; font-size: 14.6667px\;">Suite 3 #232&nbsp\;</span><br aria-hidden="true" style="color: rgb(50\, 49\, 48)\; font-family: &quot\;Segoe UI&quot\;\, &quot\;Segoe UI Web (West European)&quot\;\, &quot\;Segoe UI&quot\;\, -apple-system\, BlinkMacSystemFont\, Roboto\, &quot\;Helvetica Neue&quot\;\, sans-serif\; font-size: 14.6667px\;" />\n<span style="color: rgb(50\, 49\, 48)\; font-family: &quot\;Segoe UI&quot\;\, &quot\;Segoe UI Web (West European)&quot\;\, &quot\;Segoe UI&quot\;\, -apple-system\, BlinkMacSystemFont\, Roboto\, &quot\;Helvetica Neue&quot\;\, sans-serif\; font-size: 14.6667px\;">Destin\, FL 32541</span>
LOCATION:
UID:e.885.33839
SEQUENCE:3
DTSTAMP:20260423T141659Z
URL:https://business.waltonareachamber.com/events/details/emerald-coast-exotic-cars-2022-33839
END:VEVENT

END:VCALENDAR
