BEGIN:VCALENDAR
VERSION:2.0
PRODID:-//ChamberMaster//Event Calendar 2.0//EN
METHOD:PUBLISH
X-PUBLISHED-TTL:P3D
REFRESH-INTERVAL:P3D
CALSCALE:GREGORIAN
BEGIN:VEVENT
DTSTART;VALUE=DATE:20211005
DTEND;VALUE=DATE:20211006
TRANSP:TRANSPARENT
X-MICROSOFT-CDO-ALLDAYEVENT:TRUE
SUMMARY:Emerald Coast Theatre Company Launches Storyteller Series with ‘Shirley Valentine’
DESCRIPTION:EMERALD COAST THEATRE COMPANY LAUNCHES STORYTELLER SERIES WITH 'SHIRLEY VALENTINE'\n\n \n\nLocal actress Shirley Simpson stars in her one-woman play\, 'Shirley Valentine\,' Oct. 5\n\n\n\nSome of the earliest evidence of stories date as far back as 30\,000 years ago to cave drawings that depict animals\, humans\, and other objects. The point is\, we\, humans love stories.\n\n\n\nABOUT EMERALD COAST THEATRE COMPANY\n\nEmerald Coast Theatre Company is a 501(c)(3) founded in 2012 by Nathanael Fisher\, MFA\, and his wife\, Anna Fisher\, MA. Based in Miramar Beach\, Florida\, ECTC's mission is to enrich and entertain the Emerald Coast community through professional and educational theater. ECTC operates year-round with a two-fold mission to provide both educational and professional offerings to the Northwest Florida community. Educational outreach includes after school and home-school programs\, touring and staged productions\, summer camps\, workshops\, and classes. \n\n\n\n \n\nEmerald Coast Theatre Company (ECTC) launches its 2021-2022 StoryTeller series with four original plays by local actor/playwrights. \n\n \n\nLocal actress/playwright/director Shirley Simpson returns to ECTC's stage Tuesday\, Oct. 5 at 7:30 p.m. to kick off the series with her one-woman play\, Shirley Valentine   one of her original "leading lady" plays. She also has written Gracie Allen\, Erma Bombeck\, Minnie Pearl and Katharine Hepburn\, which she presented last year as part of the StoryTeller series.\n\n \n\n"As you get older there are fewer roles available to you\, and since I wanted to keep performing I thought\, maybe I should work on a one-woman show. But I knew the research and time it would take\, so I wanted to do women whose lives were worth knowing about\, women of influence\," Simpson told Emerald Coast magazine.\n\n \n\nIn Simpson's play\, Shirley Valentine is wondering what has happened to her youth and feeling stagnant and in a rut\, she finds herself regularly alone and talking to the wall while preparing an evening meal of 'chips and egg' for her emotionally distant husband. When her best friend offers to pay for a trip-for-two to Greece\, she packs her bags\, leaves a note on the cupboard door in the kitchen\, and heads for a fortnight of rest and relaxation. In Greece\, with just a little effort on her part\, she rediscovers everything she had been missing about her existence in England. But will she return?\n\n \n\nSimpson has had appeared as Hannah in the musical The Spitfire Grill at New Stage Theatre in Jackson\, Miss. Also at New Stage\, she played Grace in Grace & Glorie\, the title role of Shirley Valentine\, Kendall Kingsley in Impossible Marriage\, and Vada Love in The Exact Center of the Universe. At The LSU Colonnade Theatre in Baton Rouge\, she played Shirley Valentine\, and directed and played the role of Elaine in Neil Simon's Last of the Red Hot Lovers. Other stage roles in Baton Rouge include Maggie in Tribute\, Fonsia Dorsey in The Gin Game\, Queen Eleanor in The Lion in Winter\, and Kate in both Brighton Beach Memoirs and Broadway Bound. She starred as Laurette Taylor in an off-Broadway production based on the opening night of Tennessee Williams' The Glass Menagerie. Other favorite regional theater roles were in Finishing Touches\, Forty Carats\, Someone Waiting\, Only in America\, Close Ties\, and Suddenly at Home. \n\n \n\nFilm credits include Everybody's All American and Blues in the Night. \n\n \n\nThe owner of Magna Carta Productions\, Simpson conducts workshops and provides keynote speeches on communication\, leadership\, and creativity\, as well as presenting programs of comedy and drama\, for civic\, professional\, and church organizations. \n\n \n\nA former producer\, writer\, and performer in the New York Madison Avenue television market\, her TV series The Vital Link was nominated for and won the ACE Award. \n\n \n\nTickets range from $20 to $30 per person. Purchase tickets online at www.emeraldcoasttheatre.org.\n\n \n\nThe series continues January 11 with Bruce Collier's The Fall of April\; February 8 features Alan Tuttle's Give 'em Hell Harry!\; and March 1 Shirley Simpson returns with her play\, Katharine Hepburn.\n\n \n\nECTC is implementing a Safety Protocol Plan to ensure patrons can enjoy all offerings in a safe environment. For the latest updates\, visit emeraldcoasttheatre.org. \n\n \n\nECTC's 2021-2022 season is made possible with support from Grand Boulevard Town Center\, St. Joe Community Foundation\, Howard Group\, and the South Walton Tourist Development Council. \n\n\n\nTo make a tax-deductible donation\, volunteer or learn more about Emerald Coast Theatre Company\, find them on Facebook\, follow the ECTC YouTube channel\, call (850) 684-0323 and visit www.emeraldcoasttheatre.org.
X-ALT-DESC;FMTTYPE=text/html:<strong><span style="font-variant-ligatures:normal\;font-variant-numeric:normal\;font-variant-caps:small-caps\;font-variant-alternates:normal\;font-variant-position:normal\;font-variant-east-asian:normal\;">EMERALD COAST THEATRE COMPANY LAUNCHES STORYTELLER SERIES&nbsp\;</span></strong><strong><span style="font-variant-ligatures:normal\;font-variant-numeric:normal\;font-variant-caps:small-caps\;font-variant-alternates:normal\;font-variant-position:normal\;font-variant-east-asian:normal\;">WITH &lsquo\;SHIRLEY VALENTINE&rsquo\;</span></strong><br />\n&nbsp\;<br />\n<strong style="color:rgb(0\, 0\, 0)\;"><em><span style="font-family:times new roman\,serif\;"><span style="font-size:12pt\;">Local actress Shirley Simpson stars in her one-woman play\, &lsquo\;Shirley Valentine\,&rsquo\; Oct. 5</span></span></em></strong><br />\n<br />\n<span style="color:#202122\;"><span style="font-size:10.5pt\;">Some of the earliest evidence of stories date&nbsp\;as far back as 30\,000 years ago to cave drawings that depict animals\, humans\, and other objects.&nbsp\;The point is\, we\, humans love stories.</span></span><br />\n<br />\n<strong><span style="color:#202122\;"><span style="font-size:10.5pt\;">ABOUT EMERALD COAST THEATRE COMPANY</span></span></strong><br />\n<span style="color:#202122\;"><span style="font-size:10.5pt\;">Emerald Coast Theatre Company is a 501(c)(3) founded in 2012 by Nathanael Fisher\, MFA\, and his wife\, Anna Fisher\, MA. Based in Miramar Beach\, Florida\, ECTC&rsquo\;s mission is to enrich and entertain the Emerald Coast community through professional and educational theater. ECTC operates year-round with a two-fold mission to provide both educational and professional offerings to the Northwest Florida community. Educational outreach includes after school and home-school programs\, touring and staged productions\, summer camps\, workshops\, and classes.&nbsp\;</span></span><br />\n<br />\n&nbsp\;<br />\n<span style="color:#202122\;"><span style="font-size:10.5pt\;">Emerald Coast Theatre Company (ECTC) launches its 2021-2022 StoryTeller series with four original plays by local actor/playwrights.&nbsp\;</span></span><br />\n&nbsp\;<br />\n<span style="color:#202122\;"><span style="font-size:10.5pt\;">Local actress/playwright/director Shirley Simpson&nbsp\;returns to ECTC&rsquo\;s stage Tuesday\, Oct. 5 at 7:30 p.m. to kick off the series with her one-woman play\, Shirley Valentine &mdash\; one of her original &ldquo\;leading lady&rdquo\; plays. She also has written&nbsp\;<em>Gracie Allen</em>\,&nbsp\;<em>Erma Bombeck</em>\,&nbsp\;<em>Minnie Pearl</em>&nbsp\;and&nbsp\;<em>Katharine Hepburn</em>\, which she presented last year as part of the StoryTeller series.</span></span><br />\n&nbsp\;<br />\n<span style="color:#202122\;"><span style="font-size:10.5pt\;">&ldquo\;As you get older there are fewer roles available to you\, and since I wanted to keep performing I thought\, maybe I should work on a one-woman show. But I knew the research and time it would take\, so I wanted to do women whose lives were worth knowing about\, women of influence\,&rdquo\; Simpson told Emerald Coast magazine.</span></span><br />\n&nbsp\;<br />\n<span style="color:#202122\;"><span style="font-size:10.5pt\;">In Simpson&rsquo\;s play\, Shirley Valentine is wondering what has happened to her youth and feeling stagnant and in a rut\, she finds herself regularly alone and talking to the wall while preparing an evening meal of &#39\;chips and egg&#39\; for her emotionally distant husband. When her best friend offers to pay for a trip-for-two to&nbsp\;</span></span><a href="https://na01.safelinks.protection.outlook.com/?url=https%3A%2F%2Fen.wikipedia.org%2Fwiki%2FGreece&amp\;data=04%7C01%7C%7C51a941c1c48a4be7b75808d96700d13f%7C84df9e7fe9f640afb435aaaaaaaaaaaa%7C1%7C0%7C637654075468429031%7CUnknown%7CTWFpbGZsb3d8eyJWIjoiMC4wLjAwMDAiLCJQIjoiV2luMzIiLCJBTiI6Ik1haWwiLCJXVCI6Mn0%3D%7C1000&amp\;sdata=RSnYEBPnZ5vBw25ul4NTW4S3E6amtR7NyrS15RRAkFw%3D&amp\;reserved=0"><span style="text-decoration:none\;"><span style="color:black\;"><span style="font-size:10.5pt\;">Greece</span></span></span></a><span style="color:#202122\;"><span style="font-size:10.5pt\;">\, she packs her bags\, leaves a note on the cupboard door in the kitchen\, and heads for a fortnight of rest and relaxation. In Greece\, with just a little effort on her part\, she rediscovers everything she had been missing about her existence in England. But will she return?</span></span><br />\n&nbsp\;<br />\n<span style="color:#202122\;"><span style="font-size:10.5pt\;">Simpson has had appeared as Hannah in the musical&nbsp\;<em>The Spitfire Grill</em>&nbsp\;at New Stage Theatre in Jackson\, Miss. Also at New Stage\, she played Grace in&nbsp\;<em>Grace &amp\; Glorie</em>\, the title role of&nbsp\;<em>Shirley Valentine</em>\,&nbsp\;Kendall Kingsley in&nbsp\;Impossible Marriage\,&nbsp\;and Vada Love in&nbsp\;The Exact Center of the Universe.&nbsp\;At The LSU Colonnade Theatre in Baton Rouge\, she played&nbsp\;Shirley Valentine\,&nbsp\;and directed and played the role of Elaine in&nbsp\;<em>Neil Simon&rsquo\;s&nbsp\;Last of the Red Hot Lovers</em>.&nbsp\;Other stage roles in Baton Rouge include Maggie in&nbsp\;<em>Tribute</em>\,&nbsp\;Fonsia Dorsey in&nbsp\;<em>The Gin Game</em>\,&nbsp\;Queen Eleanor in&nbsp\;<em>The Lion in Winter</em>\,&nbsp\;and Kate in both&nbsp\;<em>Brighton Beach Memoirs</em>&nbsp\;and&nbsp\;<em>Broadway Bound</em>.&nbsp\;She starred as Laurette Taylor in an off-Broadway production based on the opening night of Tennessee Williams&rsquo\;&nbsp\;<em>The Glass Menagerie</em>.&nbsp\;Other favorite regional theater roles were in&nbsp\;<em>Finishing Touches</em>\,&nbsp\;<em>Forty Carats</em>\,&nbsp\;<em>Someone Waiting</em>\,&nbsp\;<em>Only in America</em>\,&nbsp\;<em>Close Ties</em>\,&nbsp\;and&nbsp\;<em>Suddenly at Home</em>.&nbsp\;</span></span><br />\n&nbsp\;<br />\n<span style="color:#202122\;"><span style="font-size:10.5pt\;">Film credits include&nbsp\;<em>Everybody&rsquo\;s All American</em>&nbsp\;and&nbsp\;<em>Blues in the Night</em>.&nbsp\;</span></span><br />\n&nbsp\;<br />\n<span style="color:#202122\;"><span style="font-size:10.5pt\;">The owner of Magna Carta Productions\, Simpson conducts workshops and provides keynote speeches on communication\, leadership\, and creativity\, as well as presenting programs of comedy and drama\, for civic\, professional\, and church organizations.&nbsp\;</span></span><br />\n&nbsp\;<br />\n<span style="color:#202122\;"><span style="font-size:10.5pt\;">A former producer\, writer\, and performer in the New York Madison Avenue television market\, her TV series&nbsp\;The Vital Link&nbsp\;was nominated for and won the ACE Award.&nbsp\;</span></span><br />\n&nbsp\;<br />\n<span style="color:#202122\;"><span style="font-size:10.5pt\;">Tickets range from $20 to $30 per person. Purchase tickets online at&nbsp\;</span></span><a href="http://www.emeraldcoasttheatre.org/"><span style="text-decoration:none\;"><span style="color:#202122\;"><span style="font-size:10.5pt\;">www.emeraldcoasttheatre.org</span></span></span></a><span style="color:#202122\;"><span style="font-size:10.5pt\;">.</span></span><br />\n&nbsp\;<br />\n<span style="color:#202122\;"><span style="font-size:10.5pt\;">The series continues January 11 with Bruce Collier&rsquo\;s The Fall of April\; February 8 features Alan Tuttle&rsquo\;s Give &lsquo\;em Hell Harry!\; and March 1 Shirley Simpson returns with her play\, Katharine Hepburn.</span></span><br />\n&nbsp\;<br />\n<span style="color:#202122\;"><span style="font-size:10.5pt\;">ECTC is implementing a Safety Protocol Plan to ensure patrons can enjoy all offerings in a safe environment. For the latest updates\, visit emeraldcoasttheatre.org.&nbsp\;</span></span><br />\n&nbsp\;<br />\n<span style="color:#202122\;"><span style="font-size:10.5pt\;">ECTC&rsquo\;s 2021-2022 season is made possible with support from Grand Boulevard Town Center\, St. Joe Community Foundation\, Howard Group\, and the South Walton Tourist Development Council.&nbsp\;</span></span><br />\n<br />\n<span style="color:#202122\;"><span style="font-family:times new roman\,serif\;"><span style="font-size:10.5pt\;">To make a tax-deductible donation\, volunteer or learn more about Emerald Coast Theatre Company\, find them on Facebook\, follow the ECTC YouTube channel\, call (850) 684-0323 and visit www.emeraldcoasttheatre.org.</span></span></span>
LOCATION:
UID:e.885.32438
SEQUENCE:3
DTSTAMP:20260423T030714Z
URL:https://business.waltonareachamber.com/events/details/emerald-coast-theatre-company-launches-storyteller-series-with-shirley-valentine-32438
END:VEVENT

END:VCALENDAR
