BEGIN:VCALENDAR
VERSION:2.0
PRODID:-//ChamberMaster//Event Calendar 2.0//EN
METHOD:PUBLISH
X-PUBLISHED-TTL:P3D
REFRESH-INTERVAL:P3D
CALSCALE:GREGORIAN
BEGIN:VEVENT
DTSTART:20220403T140000Z
DTEND:20220403T180000Z
X-MICROSOFT-CDO-ALLDAYEVENT:FALSE
SUMMARY:Emergency and Preparedness Fair
DESCRIPTION:Emergency Preparedness & Safety Fair
X-ALT-DESC;FMTTYPE=text/html:<span style="font-size:20px\;">Emergency Preparedness &amp\; Safety Fair</span>
LOCATION:Life Enrichment Senior Center 312 College Avenue DeFuniak Springs\, FL 32435
UID:e.885.33846
SEQUENCE:3
DTSTAMP:20260423T124605Z
URL:https://business.waltonareachamber.com/events/details/emergency-and-preparedness-fair-33846
END:VEVENT

END:VCALENDAR
